BEGIN:VCALENDAR
VERSION:2.0
PRODID:-//ChamberMaster//Event Calendar 2.0//EN
METHOD:PUBLISH
X-PUBLISHED-TTL:P3D
REFRESH-INTERVAL:P3D
CALSCALE:GREGORIAN
BEGIN:VEVENT
DTSTART:20240301T233000Z
DTEND:20240302T050000Z
X-MICROSOFT-CDO-ALLDAYEVENT:FALSE
SUMMARY:Giggle Gala
DESCRIPTION:Come join us for a night of laughter and fun at Decades Event Center in West Des Moines\, IA\, USA! Get ready to giggle until your sides hurt as games are played and an amazing local comedian\, Josh Alton performs. Whether you're a comedy enthusiast or just looking for a good time\, this in-person event is perfect for everyone. So grab your friends and get ready for a hilarious evening that will leave you in stitches. Don't miss out on the Giggle Gala - it's going to be a night to remember all while helping Des Moines Children's Museum. D?oors open at 5:30 P?rogram starts at 7 Besides all the fun and warm fuzzies for supporting a local nonprofit\, h?eavy appetizers and one drink included in price. Dress to have fun. Some people like to dress up others plan to come straght from work. Just as all children are welcome in the museum\, all clothing choices are welcome at the gala. Interested in sponsoring? Please email: gigglegala@dsmchildrensmuseum.com
X-ALT-DESC;FMTTYPE=text/html:Come join us for a night of laughter and fun at Decades Event Center in West Des Moines\, IA\, USA! Get ready to giggle until your sides hurt as games are played and an amazing local comedian\, Josh Alton performs. Whether you&#39\;re a comedy enthusiast or just looking for a good time\, this in-person event is perfect for everyone. So grab your friends and get ready for a hilarious evening that will leave you in stitches. Don&#39\;t miss out on the Giggle Gala - it&#39\;s going to be a night to remember all while helping Des Moines Children&#39\;s Museum. D?oors open at 5:30 P?rogram starts at 7 Besides all the fun and warm fuzzies for supporting a local nonprofit\, h?eavy appetizers and one drink included in price. Dress to have fun. Some people like to dress up others plan to come straght from work. Just as all children are welcome in the museum\, all clothing choices are welcome at the gala. Interested in sponsoring? Please email: gigglegala@dsmchildrensmuseum.com
LOCATION:Decades Event Center 1208 Grand Ave\, West Des Moines\, IA 50265
UID:e.1185.15004
SEQUENCE:3
DTSTAMP:20260421T164024Z
URL:http://business.uniquelyurbandale.com/events/details/giggle-gala-15004
END:VEVENT

END:VCALENDAR
