BEGIN:VCALENDAR
VERSION:2.0
PRODID:-//ChamberMaster//Event Calendar 2.0//EN
METHOD:PUBLISH
X-PUBLISHED-TTL:P3D
REFRESH-INTERVAL:P3D
CALSCALE:GREGORIAN
BEGIN:VEVENT
DTSTART:20230803T210000Z
DTEND:20230803T220000Z
X-MICROSOFT-CDO-ALLDAYEVENT:FALSE
SUMMARY:genYPM Hosted by Champions Recovery Room Physical Therapy & Imperfect Pathways
DESCRIPTION:In this FUN\, structured networking event\, genYP members get to know each other and start building relationships. This casual event is a great opportunity to get to know other genYP members\, build your network\, and practice relationship building skills. Join us for this fun and engaging networking event focused on young professional growth!\n\n\n\nMembers of the genYP leadership team will be present to welcome and guide you through the event. See a list of leadership team members and current genYP members.
X-ALT-DESC;FMTTYPE=text/html:<span style="font-size:14px\;"><span style="font-family:arial\;"><span background-color:="" font-size:="" style="color: rgb(51\, 51\, 51)\; font-family: sans-serif\, Arial\, Verdana\, " trebuchet="">In this FUN\, structured networking event\, genYP members get to know each other and start building relationships. This casual event is a great opportunity to get to know other genYP members\, build your network\, and practice relationship building skills. Join us for this fun and engaging networking event focused on young professional growth!<br />\n<br />\nMembers of the genYP leadership team will be present to welcome and guide you through the event. <a href="https://businesses.uniquelyurbandale.com/groups/GroupRoster/2023-genyp-group-1711">See a list of leadership team members and current genYP members.</a></span></span></span>\n<div style="text-align: center\;">&nbsp\;</div>\n
LOCATION:Champions Recovery Recovery Room Physical Therapy - Partnering with Imperfect Pathways 2655 86th St. Urbandale
UID:e.1185.12948
SEQUENCE:3
DTSTAMP:20260422T015905Z
URL:http://business.uniquelyurbandale.com/events/details/genypm-hosted-by-champions-recovery-room-physical-therapy-imperfect-pathways-12948
END:VEVENT

END:VCALENDAR
