BEGIN:VCALENDAR
VERSION:2.0
PRODID:-//ChamberMaster//Event Calendar 2.0//EN
METHOD:PUBLISH
X-PUBLISHED-TTL:P3D
REFRESH-INTERVAL:P3D
CALSCALE:GREGORIAN
BEGIN:VEVENT
DTSTART:20261118T220000Z
DTEND:20261118T230000Z
X-MICROSOFT-CDO-ALLDAYEVENT:FALSE
SUMMARY:genYPM Hosted by Austad's Golf
DESCRIPTION:In this FUN\, structured networking event\, genYP members get to know each other and start building relationships. This casual event is a great opportunity to get to know other genYP members\, build your network\, and practice relationship building skills. Join us for this fun and engaging networking event focused on young professional growth!\n\n\n\nMembers of the genYP leadership team will be present to welcome and guide you through the event. See a list of leadership team members and current genYP members.\n\n \nThank you to our Host:
X-ALT-DESC;FMTTYPE=text/html:<span style="font-size:14px\;"><span style="font-family:arial\;"><span background-color:="" font-size:="" style="color: rgb(51\, 51\, 51)\; font-family: sans-serif\, Arial\, Verdana\, " trebuchet="">In this FUN\, structured networking event\, genYP members get to know each other and start building relationships. This casual event is a great opportunity to get to know other genYP members\, build your network\, and practice relationship building skills. Join us for this fun and engaging networking event focused on young professional growth!<br />\n<br />\nMembers of the genYP leadership team will be present to welcome and guide you through the event. <a href="https://businesses.uniquelyurbandale.com/groups/GroupRoster/2024-genyp-members-2015">See a list of leadership team members and current genYP members.</a></span></span></span><br />\n&nbsp\;\n<div style="text-align: center\;"><span style="font-size:16px\;"><strong style="text-align: center\;"><span style="font-family: arial\;">Thank you to our Host:</span></strong></span><br />\n&nbsp\;</div>\n
LOCATION:Austad's Golf 1580 22nd St. West Des Moines\, IA 50266
UID:e.1185.17679
SEQUENCE:3
DTSTAMP:20260422T022141Z
URL:http://business.uniquelyurbandale.com/events/details/genypm-hosted-by-17679
END:VEVENT

END:VCALENDAR
