BEGIN:VCALENDAR
VERSION:2.0
PRODID:-//ChamberMaster//Event Calendar 2.0//EN
METHOD:PUBLISH
X-PUBLISHED-TTL:P3D
REFRESH-INTERVAL:P3D
CALSCALE:GREGORIAN
BEGIN:VEVENT
DTSTART:20231212T220000Z
DTEND:20231213T000000Z
X-MICROSOFT-CDO-ALLDAYEVENT:FALSE
SUMMARY:genYP Wrapping Party
DESCRIPTION:Annually\, the genYP Civic and Social committees come together to support a non-profit for the holidays. This year\, the group will work with Mentor Iowa to "adopt a family" or provide gifts for those less fortunate. \n\n\n\nA sign-up for gifts is available below. genYP members gather at a wrapping party to wrap the items\, network\, mingle and celebrate the holidays as a group. The wrapping party will be held at Felix & Oscars from 4:00 p.m. - 6:00 p.m. on Tuesday\, December 12. \n\n\n\nGIFT SIGN UP \n\n\n\nGifts will then be delivered to Mentor Iowa following the event. \n\n\n\nMentor Iowa is a non-profit\, volunteer organization that was started in 1974 by citizens of the community\, a Juvenile Court Judge\, and court personnel\, all of whom were concerned about the growing number of children served by the court.  The mission of the organization is to provide trained volunteer mentors to at-risk children who are in need of a positive adult role model.  Mentor Iowa does this by working in partnership with the children\, their families\, and the community.  Community volunteers present a solution by providing the mentor services to the ever-increasing number of Children in Need of Assistance and delinquent youth in central Iowa. The Mentor Iowa creed is "Every Child Deserves a Future."  By fulfilling this request\, Mentor Iowa can continue to achieve their mission and better the community.
X-ALT-DESC;FMTTYPE=text/html:<span style="font-family:arial\;"><span style="font-size:14px\;">Annually\, the genYP Civic and Social committees come together to support a non-profit for the holidays. This year\, the group will work with Mentor Iowa to &quot\;adopt a family&quot\; or provide gifts for those less fortunate.&nbsp\;<br />\n<br />\nA sign-up for gifts is available below. genYP members gather at a wrapping party to wrap the items\, network\, mingle and celebrate the holidays as a group. The wrapping party will be held at Felix &amp\; Oscars from 4:00 p.m. - 6:00 p.m. on Tuesday\, December 12.&nbsp\;<br />\n<br />\n<strong><span style="font-size:20px\;"><a href="https://www.signupgenius.com/go/10C0B4DACAE2DAAFBC52-46269258-mentor">GIFT SIGN UP</a>&nbsp\;</span></strong><br />\n<br />\nGifts will then be delivered to Mentor Iowa following the event.&nbsp\;<br />\n<br />\nMentor Iowa is a non-profit\, volunteer organization that was started in 1974 by citizens of the community\, a Juvenile Court Judge\, and court personnel\, all of whom were concerned about the growing number of children served by the court.&nbsp\; The mission of the organization is&nbsp\;<em>to provide trained volunteer mentors to at-risk children who are in need of a positive adult role model.</em>&nbsp\; Mentor Iowa does this by working in partnership with the children\, their families\, and the community.&nbsp\; Community volunteers present a solution by providing the mentor services to the ever-increasing number of Children in Need of Assistance and delinquent youth in central Iowa<strong>.&nbsp\;</strong>The Mentor Iowa creed is &ldquo\;Every Child Deserves a Future.&rdquo\;&nbsp\; By fulfilling this request\, Mentor Iowa can continue to achieve their mission and better the community.</span></span>
LOCATION:Felix & Oscar's 4050 Merle Hay Rd. Des Moines\, IA 50310
UID:e.1185.13135
SEQUENCE:3
DTSTAMP:20260421T210321Z
URL:http://business.uniquelyurbandale.com/events/details/genyp-wrapping-party-12-12-2023-13135
END:VEVENT

END:VCALENDAR
