BEGIN:VCALENDAR
VERSION:2.0
PRODID:-//ChamberMaster//Event Calendar 2.0//EN
METHOD:PUBLISH
X-PUBLISHED-TTL:P3D
REFRESH-INTERVAL:P3D
CALSCALE:GREGORIAN
BEGIN:VEVENT
DTSTART:20230326T000000Z
DTEND:20230326T030000Z
X-MICROSOFT-CDO-ALLDAYEVENT:FALSE
SUMMARY:genYP Social - Family Night at the Iowa Wolves
DESCRIPTION:Bring the family and come to an Iowa Wolves game on Saturday\, March 25th.  We have a special section reserved for genYP\, and after the game you can meet the players and get autographs.  Tickets are just $10 each!!!!\n\n\n\n\n\nBring your friends\, bring your family and come have a great time at the Iowa Wolves!  Order your tickets using this link: https://fevo.me/3HpIbGx
X-ALT-DESC;FMTTYPE=text/html:<strong>Bring the family and come to an Iowa Wolves game on Saturday\, March 25th.&nbsp\;</strong> We have a special section reserved for genYP\, and after the game you can meet the players and get autographs.&nbsp\; Tickets are just $10 each!!!!<br />\n<br />\n<br />\nBring your friends\, bring your family and come have a great time at the Iowa Wolves!&nbsp\; Order your tickets using this link: <span style="color:black\;"><span style="font-family:arial\,sans-serif\;"><span style="font-size:10.5pt\;"><a href="https://fevo.me/3HpIbGx">https://fevo.me/3HpIbGx</a></span></span></span>
LOCATION:
UID:e.1185.12983
SEQUENCE:3
DTSTAMP:20260422T122311Z
URL:http://business.uniquelyurbandale.com/events/details/genyp-social-family-night-at-the-iowa-wolves-12983
END:VEVENT

END:VCALENDAR
