BEGIN:VCALENDAR
VERSION:2.0
PRODID:-//ChamberMaster//Event Calendar 2.0//EN
METHOD:PUBLISH
X-PUBLISHED-TTL:P3D
REFRESH-INTERVAL:P3D
CALSCALE:GREGORIAN
BEGIN:VEVENT
DTSTART:20231212T160000Z
DTEND:20231212T170000Z
X-MICROSOFT-CDO-ALLDAYEVENT:FALSE
SUMMARY:genYP Social Committee Meeting
DESCRIPTION:
X-ALT-DESC;FMTTYPE=text/html:
LOCATION:Zoom
UID:e.1185.11366
SEQUENCE:3
DTSTAMP:20260421T194337Z
URL:http://business.uniquelyurbandale.com/events/details/genyp-social-committee-meeting-12-12-2023-11366
END:VEVENT

END:VCALENDAR
