BEGIN:VCALENDAR
VERSION:2.0
PRODID:-//ChamberMaster//Event Calendar 2.0//EN
METHOD:PUBLISH
X-PUBLISHED-TTL:P3D
REFRESH-INTERVAL:P3D
CALSCALE:GREGORIAN
BEGIN:VEVENT
DTSTART:20240813T140000Z
DTEND:20240813T150000Z
X-MICROSOFT-CDO-ALLDAYEVENT:FALSE
SUMMARY:genYP Social Committee Meeting
DESCRIPTION:
X-ALT-DESC;FMTTYPE=text/html:
LOCATION:Zoom
UID:e.1185.11374
SEQUENCE:3
DTSTAMP:20260421T101247Z
URL:http://business.uniquelyurbandale.com/events/details/genyp-social-committee-meeting-08-13-2024-11374
END:VEVENT

END:VCALENDAR
