BEGIN:VCALENDAR
VERSION:2.0
PRODID:-//ChamberMaster//Event Calendar 2.0//EN
METHOD:PUBLISH
X-PUBLISHED-TTL:P3D
REFRESH-INTERVAL:P3D
CALSCALE:GREGORIAN
BEGIN:VEVENT
DTSTART:20240620T123000Z
DTEND:20240620T133000Z
X-MICROSOFT-CDO-ALLDAYEVENT:FALSE
SUMMARY:genYP Morning Networking Social
DESCRIPTION:Early bird gets the... caffeine & connections! Join genYP for this morning networking event. This event offers unstructured time to get to know new members and connect with familiar faces. This event is hosted at The U Nutrition in Urbandale. The U Nutrition offers healthy smoothies\, energizing teas\, and an awesome atmosphere! \n\n\n\nAttendees receive $5 off a beverage of your choice!
X-ALT-DESC;FMTTYPE=text/html:Early bird gets the... caffeine &amp\; connections! Join genYP for this morning networking event. This event offers unstructured time to get to know new members and connect with familiar faces. This event is hosted at The U Nutrition in Urbandale. The U Nutrition offers healthy smoothies\, energizing teas\, and an awesome atmosphere!&nbsp\;<br />\n<br />\n<strong>Attendees receive $5 off a beverage of your choice!&nbsp\;</strong>
LOCATION:The U Nutrition 3021 100th St. Urbandale\, IA 50322
UID:e.1185.13287
SEQUENCE:3
DTSTAMP:20260421T124833Z
URL:http://business.uniquelyurbandale.com/events/details/genyp-morning-networking-social-13287
END:VEVENT

END:VCALENDAR
