BEGIN:VCALENDAR
VERSION:2.0
PRODID:-//ChamberMaster//Event Calendar 2.0//EN
METHOD:PUBLISH
X-PUBLISHED-TTL:P3D
REFRESH-INTERVAL:P3D
CALSCALE:GREGORIAN
BEGIN:VEVENT
DTSTART:20240301T140000Z
DTEND:20240301T150000Z
X-MICROSOFT-CDO-ALLDAYEVENT:FALSE
SUMMARY:genYP Mentorship Program Info Session and Meet Up
DESCRIPTION:Join the current participants of the Mentorship Program presented by Palmer Group for coffee and bagels! This is an opportunity to talk to other members of the program about what advice they've given/received\, how they structure their meetings\, and meet new friends! \n\n\n\nIf you have been curious about the Mentorship Program but aren't quite sure if you want to join in on the fun\, attend this session to learn more\, hear from mentor pairings\, and ask questions. \n\n\n\nWe are currently looking for mentors in the areas of Engineering\, Marketing\, Sales\, Real Estate and Finance.
X-ALT-DESC;FMTTYPE=text/html:Join the current participants of the Mentorship Program presented by Palmer Group for coffee and bagels! This is an opportunity to talk to other members of the program about what advice they&#39\;ve given/received\, how they structure their meetings\, and meet new friends!&nbsp\;<br />\n<br />\nIf you have been curious about the Mentorship Program but aren&#39\;t quite sure if you want to join in on the fun\, attend this session to learn more\, hear from mentor pairings\, and ask questions.&nbsp\;<br />\n<br />\nWe are currently looking for mentors in the areas of Engineering\, Marketing\, Sales\, Real Estate and Finance.&nbsp\;
LOCATION:5 Borough Bagels 11101 Plum Dr. Urbandale\, IA 50322
UID:e.1185.15009
SEQUENCE:3
DTSTAMP:20260421T164029Z
URL:http://business.uniquelyurbandale.com/events/details/genyp-mentorship-program-info-session-and-meet-up-15009
END:VEVENT

END:VCALENDAR
