BEGIN:VCALENDAR
VERSION:2.0
PRODID:-//ChamberMaster//Event Calendar 2.0//EN
METHOD:PUBLISH
X-PUBLISHED-TTL:P3D
REFRESH-INTERVAL:P3D
CALSCALE:GREGORIAN
BEGIN:VEVENT
DTSTART:20231116T220000Z
DTEND:20231116T230000Z
X-MICROSOFT-CDO-ALLDAYEVENT:FALSE
SUMMARY:genYP Mentorship Program Check-In Event
DESCRIPTION:Are you a current Mentor/Mentee pairing? Attend this event as a fun way to check in as a pair. Enjoy refreshments\, networking\, and more. \n\n\n\nThe revamped genYP Mentorship Program kicked off formally in May 2023. However\, this program runs continually throughout the year with no hard start or stop. If you are interested in being paired with a Mentor or Mentee\, please attend this event to learn more!
X-ALT-DESC;FMTTYPE=text/html:<span style="font-family: arial\; font-size: 14px\;">Are you a current Mentor/Mentee pairing? Attend this event as a fun way to check in as a pair. Enjoy refreshments\, networking\, and more.&nbsp\;</span><br />\n<br />\n<span style="font-size:14px\;"><span style="font-family:arial\;">The revamped genYP Mentorship Program kicked off formally in May 2023. However\, this program runs continually throughout the year with no hard start or stop. If you are interested in being paired with a Mentor or Mentee\, please attend this event to learn more!&nbsp\;</span></span><br />\n&nbsp\;
LOCATION:Palmer Group 3737 Woodland Ave #200 West Des Moines\, IA 50266
UID:e.1185.13153
SEQUENCE:3
DTSTAMP:20260421T205851Z
URL:http://business.uniquelyurbandale.com/events/details/genyp-mentorship-program-check-in-event-13153
END:VEVENT

END:VCALENDAR
