BEGIN:VCALENDAR
VERSION:2.0
PRODID:-//ChamberMaster//Event Calendar 2.0//EN
METHOD:PUBLISH
X-PUBLISHED-TTL:P3D
REFRESH-INTERVAL:P3D
CALSCALE:GREGORIAN
BEGIN:VEVENT
DTSTART:20231109T143000Z
DTEND:20231109T153000Z
X-MICROSOFT-CDO-ALLDAYEVENT:FALSE
SUMMARY:genYP Marketing Committee Meeting
DESCRIPTION:
X-ALT-DESC;FMTTYPE=text/html:
LOCATION:
UID:e.1185.12766
SEQUENCE:3
DTSTAMP:20260421T211756Z
URL:http://business.uniquelyurbandale.com/events/details/genyp-marketing-committee-meeting-12766
END:VEVENT

END:VCALENDAR
