BEGIN:VCALENDAR
VERSION:2.0
PRODID:-//ChamberMaster//Event Calendar 2.0//EN
METHOD:PUBLISH
X-PUBLISHED-TTL:P3D
REFRESH-INTERVAL:P3D
CALSCALE:GREGORIAN
BEGIN:VEVENT
DTSTART:20250109T143000Z
DTEND:20250109T153000Z
X-MICROSOFT-CDO-ALLDAYEVENT:FALSE
SUMMARY:genYP Marketing Committee Meeting
DESCRIPTION:The genYP Marketing Committee meets monthly to discuss social media\, advertising upcoming events\, and newsletter content for the program. \n\n\n\nThis committee meets virtually\, the second Thursday of the month at 8:30 a.m. \n\n\n\nCommittee Chair: \n\nSarah Poznanski\n\nsarahg@c21sre.com
X-ALT-DESC;FMTTYPE=text/html:The genYP Marketing Committee meets monthly to discuss social media\, advertising upcoming events\, and newsletter content for the program.&nbsp\;<br />\n<br />\nThis committee meets virtually\, the second Thursday of the month at 8:30 a.m.&nbsp\;<br />\n<br />\n<strong>Committee Chair:&nbsp\;</strong><br />\nSarah Poznanski<br />\nsarahg@c21sre.com<br />\n&nbsp\;
LOCATION:Virtual\, please contact the committee Chair for the link!
UID:e.1185.16388
SEQUENCE:3
DTSTAMP:20260421T031832Z
URL:http://business.uniquelyurbandale.com/events/details/genyp-marketing-committee-meeting-01-09-2025-16388
END:VEVENT

END:VCALENDAR
