BEGIN:VCALENDAR
VERSION:2.0
PRODID:-//ChamberMaster//Event Calendar 2.0//EN
METHOD:PUBLISH
X-PUBLISHED-TTL:P3D
REFRESH-INTERVAL:P3D
CALSCALE:GREGORIAN
BEGIN:VEVENT
DTSTART:20240320T210000Z
DTEND:20240320T220000Z
X-MICROSOFT-CDO-ALLDAYEVENT:FALSE
SUMMARY:genYP March Madness Bracket Party at Beyond Ball
DESCRIPTION:It's TIME! March Madness is HERE! Annually\, the genYP Civic Committee organizes a bracket competition that gives back to a local non-profit. This year\, the committee has teamed up with Beyond Ball as the recipient of the March Madness donations. The Kickoff Party will be held at Beyond Ball\, where attendees will have the chance to check out their facility and in-house basketball court\, learn about their mission\, complete brackets and play a little basketball! Please bring tennis shoes if you'd like to play. No black soles\, please! \n\n\n\nHow it works: \n\nOne $10 donation = one bracket\n\n1. Make your donation to Beyond Ball HERE between now-March 20 (day of event). Make sure to screenshot or keep some form of receipt that you've donated.\n\n        - Donations WILL be accepted AT the Kickoff Event\, but donating beforehand is strongly encouraged! \n\n2.  After completing your donation\, complete this Google form.\n\n3.  Daycen will email back a link to complete your bracket after Google form is complete. \n\n4. You do not have to complete anything prior to the event\, you can show up\, make your donation and receive your bracket then and there. \n\n5.  Complete the bracket at the Kickoff Party with a fun group of basketball lovers (and bandwagoners)! \n\n-6. Additionally\, please register for this event on the right-hand side of this event page so we know who to expect at the Bracket Party! \n\n\n\nAbout Beyond Ball: \n\n\n\n\n\n\nBeyond Ball is a place where youth from various economic and ethnic backgrounds come together and work towards a common goal. It's a place where skill\, dedication\, and hard work are instilled and result in opportunities that they may not have had otherwise. Our mentors and trainers walk alongside our student-athletes and promote self-care and education first\, and basketball and athletics second. We care about each and every child that comes through our doors and provide them with mentorship\, meals\, tutoring opportunities\, and athletic scholarship.
X-ALT-DESC;FMTTYPE=text/html:<span style="font-size:14px\;"><span style="font-family:arial\;"><span style="font-size:16px\;">It&#39\;s TIME! March Madness is HERE! Annually\, the genYP Civic Committee organizes a bracket competition that gives back to a local non-profit. This year\, the committee has teamed up with Beyond Ball as the recipient of the March Madness donations. The Kickoff Party will be held at Beyond Ball\, where attendees will have the chance to check out their facility and in-house basketball court\, learn about their mission\, complete brackets and play a little basketball! Please bring tennis shoes if you&#39\;d like to play. No black soles\, please!&nbsp\;</span><br />\n<br />\n<span style="font-size:16px\;"><strong>How it works:&nbsp\;</strong><br />\nOne $10 donation = one bracket<br />\n1. Make your donation to <strong><a href="https://beyond-ball.com/donate/"><span style="color:#0000CD\;">Beyond Ball HERE</span></a></strong> between now-March 20 (day of event). <strong><span style="color:#FF0000\;">Make sure to screenshot or keep some form of receipt that you&#39\;ve donated.</span></strong><br />\n<strong><em>&nbsp\;&nbsp\;&nbsp\;&nbsp\;&nbsp\; &nbsp\; - Donations WILL be accepted AT the Kickoff Event\, but donating beforehand is strongly&nbsp\;</em></strong><strong><em>encouraged!&nbsp\;</em></strong><br />\n2.&nbsp\; After completing your donation\, <b><a href="https://docs.google.com/forms/d/e/1FAIpQLScj2R9RBs-6KH7SvKKb3ZdK7RdWME7aRtZy9IcegFnTgbExBQ/alreadyresponded"><span style="color:#0000CD\;">complete this Google form</span></a></b><font color="#0000cd"><b>.</b></font><br />\n3.&nbsp\; Daycen will email back a link to complete your bracket after Google form is complete.&nbsp\;<br />\n4. You do not <em>have to</em> complete anything prior to the event\, you can show up\, make your donation and receive your bracket then and there.&nbsp\;<br />\n5.&nbsp\; Complete the bracket <strong>at </strong>the Kickoff Party with a fun group of basketball lovers (and bandwagoners)!&nbsp\;<br />\n-6. Additionally\, please register for this event on the right-hand side of this event page so we know who to expect at the Bracket Party!&nbsp\;</span><br />\n<br />\n<span style="font-size:16px\;"><strong>About Beyond Ball:&nbsp\;</strong></span></span></span>\n<div class="vc_row wpb_row vc_row-fluid" font-size:="" open="" style="padding: 0px\; margin: 0px -25px\; box-sizing: border-box\; color: rgb(133\, 134\, 140)\; font-family: ">\n<div class="wpb_column vc_column_container vc_col-sm-12" style="padding: 0px\; margin: 0px\; width: 1250px\; position: relative\; min-height: 1px\; box-sizing: border-box\; float: left\;">\n<div class="vc_column-inner" style="padding: 0px 25px\; margin: 0px\; box-sizing: border-box\; width: 1250px\;">\n<div class="wpb_wrapper" style="padding: 0px\; margin: 0px\;">\n<div class="wpb_text_column wpb_content_element " style="padding: 0px\; margin: 0px\;">\n<div class="wpb_wrapper" style="padding: 0px\; margin: 0px\;">\n<p style="padding: 0px\; margin: 0px\;"><span style="font-size:16px\;"><span style="color:#000000\;"><span style="font-family:arial\;">Beyond Ball is a place where youth from various economic and ethnic backgrounds come together and work towards a common goal. It&rsquo\;s a place where skill\, dedication\, and hard work are instilled and result in opportunities that they may not have had otherwise. Our mentors and trainers walk alongside our student-athletes and promote self-care and education first\, and basketball and athletics second. We care about each and every child that comes through our doors and provide them with mentorship\, meals\, tutoring opportunities\, and athletic scholarship.</span></span></span></p>\n</div>\n</div>\n</div>\n</div>\n</div>\n</div>\n\n<div class="vc_row wpb_row vc_row-fluid" font-size:="" open="" style="padding: 0px\; margin: 0px -25px\; box-sizing: border-box\; color: rgb(133\, 134\, 140)\; font-family: ">\n<div class="wpb_column vc_column_container vc_col-sm-12" style="padding: 0px\; margin: 0px\; width: 1250px\; position: relative\; min-height: 1px\; box-sizing: border-box\; float: left\;">\n<div class="vc_column-inner" style="padding: 0px 25px\; margin: 0px\; box-sizing: border-box\; width: 1250px\;">\n<div class="wpb_wrapper" style="padding: 0px\; margin: 0px\;">&nbsp\;</div>\n</div>\n</div>\n</div>\n<br />\n<br />\n&nbsp\;
LOCATION:Beyond Ball 4020 121st St. Urbandale\, IA Beyond Ball is located across from the Urbandale Fire Station\, and in between CubeSmart Storage and Van Meter Inc. Beyond Ball is located within Handle University. Handle University signage is visible from 121st St.
UID:e.1185.13625
SEQUENCE:3
DTSTAMP:20260421T165833Z
URL:http://business.uniquelyurbandale.com/events/details/genyp-march-madness-bracket-party-at-beyond-ball-13625
END:VEVENT

END:VCALENDAR
