BEGIN:VCALENDAR
VERSION:2.0
PRODID:-//ChamberMaster//Event Calendar 2.0//EN
METHOD:PUBLISH
X-PUBLISHED-TTL:P3D
REFRESH-INTERVAL:P3D
CALSCALE:GREGORIAN
BEGIN:VEVENT
DTSTART:20231025T153000Z
DTEND:20231025T220000Z
X-MICROSOFT-CDO-ALLDAYEVENT:FALSE
SUMMARY:genYP Leadership Planning Retreat
DESCRIPTION:Planning retreat for Leadership team only.
X-ALT-DESC;FMTTYPE=text/html:<span style="font-family:arial\;">Planning retreat for Leadership team only.&nbsp\;</span>
LOCATION:Blue Compass @ West 48 1601 48th St #200\, West Des Moines\, IA 50266
UID:e.1185.13115
SEQUENCE:3
DTSTAMP:20260421T225857Z
URL:http://business.uniquelyurbandale.com/events/details/genyp-leadership-planning-retreat-13115
END:VEVENT

END:VCALENDAR
