BEGIN:VCALENDAR
VERSION:2.0
PRODID:-//ChamberMaster//Event Calendar 2.0//EN
METHOD:PUBLISH
X-PUBLISHED-TTL:P3D
REFRESH-INTERVAL:P3D
CALSCALE:GREGORIAN
BEGIN:VEVENT
DTSTART:20240221T143000Z
DTEND:20240221T153000Z
X-MICROSOFT-CDO-ALLDAYEVENT:FALSE
SUMMARY:genYP Leadership Committee Meeting
DESCRIPTION:genYP Leadership Committee Meeting
X-ALT-DESC;FMTTYPE=text/html:genYP Leadership Committee Meeting&nbsp\;&nbsp\;&nbsp\;&nbsp\;
LOCATION:Urbandale Chamber of Commerce RODAN Board Room 2830 100th Street\, Ste. 110\, Urbandale
UID:e.1185.12355
SEQUENCE:3
DTSTAMP:20260421T165918Z
URL:http://business.uniquelyurbandale.com/events/details/genyp-leadership-committee-meeting-02-29-2024-12355
END:VEVENT

END:VCALENDAR
