BEGIN:VCALENDAR
VERSION:2.0
PRODID:-//ChamberMaster//Event Calendar 2.0//EN
METHOD:PUBLISH
X-PUBLISHED-TTL:P3D
REFRESH-INTERVAL:P3D
CALSCALE:GREGORIAN
BEGIN:VEVENT
DTSTART:20231019T210000Z
DTEND:20231019T223000Z
X-MICROSOFT-CDO-ALLDAYEVENT:FALSE
SUMMARY:genYP Happy Hour Social
DESCRIPTION:First 15 people to arrive receive one free beverage! Stop in to hang out with Urbandale GenYP members for a great time! Grab a friend\, some food\, drinks and games!
X-ALT-DESC;FMTTYPE=text/html:<span style="font-size:18px\;"><strong><span style="color:#0000CD\;">First 15 people to arrive receive one free beverage! Stop in to hang out with Urbandale GenYP members for a great time! Grab a friend\, some food\, drinks and games!&nbsp\;</span></strong></span>
LOCATION:Tito's Lounge 3916 NW Urbandale Dr. Urbandale\, IA 50322
UID:e.1185.13133
SEQUENCE:3
DTSTAMP:20260421T225857Z
URL:http://business.uniquelyurbandale.com/events/details/genyp-happy-hour-social-13133
END:VEVENT

END:VCALENDAR
