BEGIN:VCALENDAR
VERSION:2.0
PRODID:-//ChamberMaster//Event Calendar 2.0//EN
METHOD:PUBLISH
X-PUBLISHED-TTL:P3D
REFRESH-INTERVAL:P3D
CALSCALE:GREGORIAN
BEGIN:VEVENT
DTSTART;VALUE=DATE:20240926
DTEND;VALUE=DATE:20240927
TRANSP:TRANSPARENT
X-MICROSOFT-CDO-ALLDAYEVENT:TRUE
SUMMARY:genYP Happy Hour at McDivot's Indoor Sports Pub
DESCRIPTION:Join us for a fun and relaxed evening at McDivots Indoor Sports Pub for our genYP Happy Hour! This casual gathering is designed specifically for young professionals in the genYP program to unwind\, network\, and enjoy a great time together.\n\n\n\nHang out and enjoy a few drinks\, OR try out McDivot's golf simulators!
X-ALT-DESC;FMTTYPE=text/html:<span style="font-family:arial\;"><span style="font-size:14px\;">Join us for a fun and relaxed evening at McDivots Indoor Sports Pub for our genYP Happy Hour! This casual gathering is designed specifically for young professionals in the genYP program to unwind\, network\, and enjoy a great time together.<br />\n<br />\nHang out and enjoy a few drinks\, OR try out McDivot&#39\;s golf simulators!&nbsp\;</span></span>
LOCATION:3390 SE Crossroads Dr.\, Suite 100\, Grimes\, IA\, United States\, Iowa
UID:e.1185.13288
SEQUENCE:3
DTSTAMP:20260421T101140Z
URL:http://business.uniquelyurbandale.com/events/details/genyp-happy-hour-at-mcdivot-s-indoor-sports-pub-13288
END:VEVENT

END:VCALENDAR
