BEGIN:VCALENDAR
VERSION:2.0
PRODID:-//ChamberMaster//Event Calendar 2.0//EN
METHOD:PUBLISH
X-PUBLISHED-TTL:P3D
REFRESH-INTERVAL:P3D
CALSCALE:GREGORIAN
BEGIN:VEVENT
DTSTART:20230615T123000Z
DTEND:20230615T133000Z
X-MICROSOFT-CDO-ALLDAYEVENT:FALSE
SUMMARY:genYP Early Bird Social
DESCRIPTION:Join genYP for a morning social and networking hour! This is a great way to start your morning off right with a protein shake from The U Nutrition and network with fellow genYP members.
X-ALT-DESC;FMTTYPE=text/html:Join genYP for a morning social and networking hour! This is a great way to start your morning off right with a protein shake from The U Nutrition and network with fellow genYP members.&nbsp\;
LOCATION:The U Nutrition 3021 100th St. Urbandale\, IA
UID:e.1185.12996
SEQUENCE:3
DTSTAMP:20260422T074346Z
URL:http://business.uniquelyurbandale.com/events/details/genyp-early-bird-social-12996
END:VEVENT

END:VCALENDAR
