BEGIN:VCALENDAR
VERSION:2.0
PRODID:-//ChamberMaster//Event Calendar 2.0//EN
METHOD:PUBLISH
X-PUBLISHED-TTL:P3D
REFRESH-INTERVAL:P3D
CALSCALE:GREGORIAN
BEGIN:VEVENT
DTSTART:20231214T173000Z
DTEND:20231214T183000Z
X-MICROSOFT-CDO-ALLDAYEVENT:FALSE
SUMMARY:genYP Civic Engagement Committee Meeting
DESCRIPTION:
X-ALT-DESC;FMTTYPE=text/html:
LOCATION:
UID:e.1185.9878
SEQUENCE:3
DTSTAMP:20260421T194402Z
URL:http://business.uniquelyurbandale.com/events/details/genyp-civic-engagement-committee-meeting-12-19-2023-9878
END:VEVENT

END:VCALENDAR
