BEGIN:VCALENDAR
VERSION:2.0
PRODID:-//ChamberMaster//Event Calendar 2.0//EN
METHOD:PUBLISH
X-PUBLISHED-TTL:P3D
REFRESH-INTERVAL:P3D
CALSCALE:GREGORIAN
BEGIN:VEVENT
DTSTART:20230914T163000Z
DTEND:20230914T173000Z
X-MICROSOFT-CDO-ALLDAYEVENT:FALSE
SUMMARY:genYP Civic Engagement Committee Meeting
DESCRIPTION:
X-ALT-DESC;FMTTYPE=text/html:
LOCATION:
UID:e.1185.9875
SEQUENCE:3
DTSTAMP:20260422T003135Z
URL:http://business.uniquelyurbandale.com/events/details/genyp-civic-engagement-committee-meeting-09-19-2023-9875
END:VEVENT

END:VCALENDAR
