BEGIN:VCALENDAR
VERSION:2.0
PRODID:-//ChamberMaster//Event Calendar 2.0//EN
METHOD:PUBLISH
X-PUBLISHED-TTL:P3D
REFRESH-INTERVAL:P3D
CALSCALE:GREGORIAN
BEGIN:VEVENT
DTSTART:20240808T143000Z
DTEND:20240808T153000Z
X-MICROSOFT-CDO-ALLDAYEVENT:FALSE
SUMMARY:genYP Civic Engagement Committee Meeting
DESCRIPTION:This is the monthly meeting for the genYP Civic Engagement Committee. This committee is deeply involved in making the Let's Read program a success in addition to developing events that allow our members to be engaged in civic and community service.  They meet on the2nd Thursday of every month\, virtually.
X-ALT-DESC;FMTTYPE=text/html:This is the monthly meeting for the genYP Civic Engagement Committee. This committee is deeply involved in making the Let&rsquo\;s Read program a success in addition to developing events that allow our members to be engaged in civic and community service.&nbsp\; They meet on the2nd Thursday of every month\, virtually.&nbsp\;\n<p class="ydpcfb5fc95yiv8652373511msonormal">&nbsp\;</p>\n
LOCATION:Virtual\, please contact Chair\, Holly Adams (holly@adamsfamrealty.com) for the link.
UID:e.1185.9886
SEQUENCE:3
DTSTAMP:20260421T090156Z
URL:http://business.uniquelyurbandale.com/events/details/genyp-civic-engagement-committee-meeting-08-20-2024-9886
END:VEVENT

END:VCALENDAR
