BEGIN:VCALENDAR
VERSION:2.0
PRODID:-//ChamberMaster//Event Calendar 2.0//EN
METHOD:PUBLISH
X-PUBLISHED-TTL:P3D
REFRESH-INTERVAL:P3D
CALSCALE:GREGORIAN
BEGIN:VEVENT
DTSTART:20240208T153000Z
DTEND:20240208T163000Z
X-MICROSOFT-CDO-ALLDAYEVENT:FALSE
SUMMARY:genYP Civic Engagement Committee Meeting
DESCRIPTION:This committee meets monthly with the intention of increasing genYP's involvement in the community as well as genYP's awareness of the community. The committee acts as the liaison to our chamber's non-profit members\, seeking out opportunities for genYP to be of assistance and involved. The committee also manages occasional events throughout the year.\n\nExpectations of committee members include:\n\n              Attendance   please attend our monthly meetings and occasional events as regularly as possible.\n\n              Ideas   please bring your ideas to the table. In the past our best ideas have come from committee members.\n\n              Feedback   as you attend/participate in genYP Civic events and projects\, sharing valuable feedback helps the committee improve for the future.\n\nChair & Co-Chair responsibilities include:\n\n              Lead the committee to implement ideas and projects.\n\n              Act as the liaisons to the genYP Leadership Team and Urbandale Chamber.\n\n\nIf you are interested in learning more\, please contact our chair below or join us at one of our meetings.\n\nChair: Holly Adams holly@adamsfamrealty.com \n\nThis committee meets monthly with the intention of increasing genYP's involvement in the community as well as genYP's awareness of the community. The committee acts as the liaison to our chamber's non-profit members\, seeking out opportunities for genYP to be of assistance and involved. The committee also manages occasional events throughout the year.\n\nExpectations of committee members include:\n\n              Attendance   please attend our monthly meetings and occasional events as regularly as possible.\n\n              Ideas   please bring your ideas to the table. In the past our best ideas have come from committee members.\n\n              Feedback   as you attend/participate in genYP Civic events and projects\, sharing valuable feedback helps the committee improve for the future.\n\nChair & Co-Chair responsibilities include:\n\n              Lead the committee to implement ideas and projects.\n\n              Act as the liaisons to the genYP Leadership Team and Urbandale Chamber.\n\n\nIf you are interested in learning more\, please contact our chair below or join us at one of our meetings.\nChair: Holly Adams\, holly@adamsfamrealty.com\n\nThis committee meets monthly with the intention of increasing genYP's involvement in the community as well as genYP's awareness of the community. The committee acts as the liaison to our chamber's non-profit members\, seeking out opportunities for genYP to be of assistance and involved. The committee also manages occasional events throughout the year.\n\nExpectations of committee members include:\n\n              Attendance   please attend our monthly meetings and occasional events as regularly as possible.\n\n              Ideas   please bring your ideas to the table. In the past our best ideas have come from committee members.\n\n              Feedback   as you attend/participate in genYP Civic events and projects\, sharing valuable feedback helps the committee improve for the future.\n\nChair & Co-Chair responsibilities include:\n\n              Lead the committee to implement ideas and projects.\n\n              Act as the liaisons to the genYP Leadership Team and Urbandale Chamber.\n\n\nIf you are interested in learning more\, please contact our chair below or join us at one of our meetings.\nChair: Holly Adams\, holly@adamsfamrealty.com
X-ALT-DESC;FMTTYPE=text/html:<p class="ydpcfb5fc95yiv8652373511msonormal"><span style="font-family: arial\;"><span style="color: rgb(38\, 40\, 42)\;">This committee meets monthly with the intention of increasing genYP&rsquo\;s involvement in the community as well as genYP&rsquo\;s awareness of the community. The committee acts as the liaison to our chamber&rsquo\;s non-profit members\, seeking out opportunities for genYP to be of assistance and involved. The committee also manages occasional events throughout the year.</span></span><span style="font-size: 10pt\; font-family: Helvetica\, &quot\;sans-serif&quot\;\; color: rgb(38\, 40\, 42)\;"><o:p></o:p></span></p>\n\n<p class="ydpcfb5fc95yiv8652373511msonormal"><span style="font-family: arial\;"><span style="color: rgb(38\, 40\, 42)\;">Expectations of committee members include:</span></span><span style="font-size: 10pt\; font-family: Helvetica\, &quot\;sans-serif&quot\;\; color: rgb(38\, 40\, 42)\;"><o:p></o:p></span></p>\n\n<p class="ydpcfb5fc95yiv8652373511msonormal"><span style="font-family: arial\;"><span style="color: rgb(38\, 40\, 42)\;">&bull\;&nbsp\;&nbsp\;&nbsp\;&nbsp\;&nbsp\;&nbsp\;&nbsp\;&nbsp\;&nbsp\;&nbsp\;&nbsp\;&nbsp\; Attendance &ndash\; please attend our monthly meetings and occasional events as regularly as possible.</span></span><span style="font-size: 10pt\; font-family: Helvetica\, &quot\;sans-serif&quot\;\; color: rgb(38\, 40\, 42)\;"><o:p></o:p></span></p>\n\n<p class="ydpcfb5fc95yiv8652373511msonormal"><span style="font-family: arial\;"><span style="color: rgb(38\, 40\, 42)\;">&bull\;&nbsp\;&nbsp\;&nbsp\;&nbsp\;&nbsp\;&nbsp\;&nbsp\;&nbsp\;&nbsp\;&nbsp\;&nbsp\;&nbsp\; Ideas &ndash\; please bring your ideas to the table. In the past our best ideas have come from committee members.</span></span><span style="font-size: 10pt\; font-family: Helvetica\, &quot\;sans-serif&quot\;\; color: rgb(38\, 40\, 42)\;"><o:p></o:p></span></p>\n\n<p class="ydpcfb5fc95yiv8652373511msonormal"><span style="font-family: arial\;"><span style="color: rgb(38\, 40\, 42)\;">&bull\;&nbsp\;&nbsp\;&nbsp\;&nbsp\;&nbsp\;&nbsp\;&nbsp\;&nbsp\;&nbsp\;&nbsp\;&nbsp\;&nbsp\; Feedback &ndash\; as you attend/participate in genYP Civic events and projects\, sharing valuable feedback helps the committee improve for the future.</span></span><span style="font-size: 10pt\; font-family: Helvetica\, &quot\;sans-serif&quot\;\; color: rgb(38\, 40\, 42)\;"><o:p></o:p></span></p>\n\n<p class="ydpcfb5fc95yiv8652373511msonormal"><span style="font-family: arial\;"><span style="color: rgb(38\, 40\, 42)\;">Chair &amp\; Co-Chair responsibilities include:</span></span><span style="font-size: 10pt\; font-family: Helvetica\, &quot\;sans-serif&quot\;\; color: rgb(38\, 40\, 42)\;"><o:p></o:p></span></p>\n\n<p class="ydpcfb5fc95yiv8652373511msonormal"><span style="font-family: arial\;"><span style="color: rgb(38\, 40\, 42)\;">&bull\;&nbsp\;&nbsp\;&nbsp\;&nbsp\;&nbsp\;&nbsp\;&nbsp\;&nbsp\;&nbsp\;&nbsp\;&nbsp\;&nbsp\; Lead the committee to implement ideas and projects.</span></span><span style="font-size: 10pt\; font-family: Helvetica\, &quot\;sans-serif&quot\;\; color: rgb(38\, 40\, 42)\;"><o:p></o:p></span></p>\n\n<p class="ydpcfb5fc95yiv8652373511msonormal"><span style="font-family: arial\;"><span style="color: rgb(38\, 40\, 42)\;">&bull\;&nbsp\;&nbsp\;&nbsp\;&nbsp\;&nbsp\;&nbsp\;&nbsp\;&nbsp\;&nbsp\;&nbsp\;&nbsp\;&nbsp\; Act as the liaisons to the genYP Leadership Team and Urbandale Chamber.</span></span><span style="font-size: 10pt\; font-family: Helvetica\, &quot\;sans-serif&quot\;\; color: rgb(38\, 40\, 42)\;"><o:p></o:p></span></p>\n<br />\n<span style="font-family: arial\;">If you are interested in learning more\, please contact our chair below or join us at one of our meetings.</span>\n\n<p><span style="font-family: arial\;">Chair: Holly Adams holly@adamsfamrealty.com&nbsp\;</span></p>\n\n<p class="ydpcfb5fc95yiv8652373511msonormal"><span style="font-size: 12px\;"><span style="font-family: Helvetica\, sans-serif\; color: rgb(38\, 40\, 42)\;">This committee meets monthly with the intention of increasing genYP&rsquo\;s involvement in the community as well as genYP&rsquo\;s awareness of the community. The committee acts as the liaison to our chamber&rsquo\;s non-profit members\, seeking out opportunities for genYP to be of assistance and involved. The committee also manages occasional events throughout the year.</span></span><span style="font-size: 10pt\; font-family: Helvetica\, &quot\;sans-serif&quot\;\; color: rgb(38\, 40\, 42)\;"><o:p></o:p></span></p>\n\n<p class="ydpcfb5fc95yiv8652373511msonormal"><span style="font-size: 12px\;"><span style="font-family: Helvetica\, sans-serif\; color: rgb(38\, 40\, 42)\;">Expectations of committee members include:</span></span><span style="font-size: 10pt\; font-family: Helvetica\, &quot\;sans-serif&quot\;\; color: rgb(38\, 40\, 42)\;"><o:p></o:p></span></p>\n\n<p class="ydpcfb5fc95yiv8652373511msonormal"><span style="font-size: 12px\;"><span style="font-family: Helvetica\, sans-serif\; color: rgb(38\, 40\, 42)\;">&bull\;&nbsp\;&nbsp\;&nbsp\;&nbsp\;&nbsp\;&nbsp\;&nbsp\;&nbsp\;&nbsp\;&nbsp\;&nbsp\;&nbsp\; Attendance &ndash\; please attend our monthly meetings and occasional events as regularly as possible.</span></span><span style="font-size: 10pt\; font-family: Helvetica\, &quot\;sans-serif&quot\;\; color: rgb(38\, 40\, 42)\;"><o:p></o:p></span></p>\n\n<p class="ydpcfb5fc95yiv8652373511msonormal"><span style="font-size: 12px\;"><span style="font-family: Helvetica\, sans-serif\; color: rgb(38\, 40\, 42)\;">&bull\;&nbsp\;&nbsp\;&nbsp\;&nbsp\;&nbsp\;&nbsp\;&nbsp\;&nbsp\;&nbsp\;&nbsp\;&nbsp\;&nbsp\; Ideas &ndash\; please bring your ideas to the table. In the past our best ideas have come from committee members.</span></span><span style="font-size: 10pt\; font-family: Helvetica\, &quot\;sans-serif&quot\;\; color: rgb(38\, 40\, 42)\;"><o:p></o:p></span></p>\n\n<p class="ydpcfb5fc95yiv8652373511msonormal"><span style="font-size: 12px\;"><span style="font-family: Helvetica\, sans-serif\; color: rgb(38\, 40\, 42)\;">&bull\;&nbsp\;&nbsp\;&nbsp\;&nbsp\;&nbsp\;&nbsp\;&nbsp\;&nbsp\;&nbsp\;&nbsp\;&nbsp\;&nbsp\; Feedback &ndash\; as you attend/participate in genYP Civic events and projects\, sharing valuable feedback helps the committee improve for the future.</span></span><span style="font-size: 10pt\; font-family: Helvetica\, &quot\;sans-serif&quot\;\; color: rgb(38\, 40\, 42)\;"><o:p></o:p></span></p>\n\n<p class="ydpcfb5fc95yiv8652373511msonormal"><span style="font-size: 12px\;"><span style="font-family: Helvetica\, sans-serif\; color: rgb(38\, 40\, 42)\;">Chair &amp\; Co-Chair responsibilities include:</span></span><span style="font-size: 10pt\; font-family: Helvetica\, &quot\;sans-serif&quot\;\; color: rgb(38\, 40\, 42)\;"><o:p></o:p></span></p>\n\n<p class="ydpcfb5fc95yiv8652373511msonormal"><span style="font-size: 12px\;"><span style="font-family: Helvetica\, sans-serif\; color: rgb(38\, 40\, 42)\;">&bull\;&nbsp\;&nbsp\;&nbsp\;&nbsp\;&nbsp\;&nbsp\;&nbsp\;&nbsp\;&nbsp\;&nbsp\;&nbsp\;&nbsp\; Lead the committee to implement ideas and projects.</span></span><span style="font-size: 10pt\; font-family: Helvetica\, &quot\;sans-serif&quot\;\; color: rgb(38\, 40\, 42)\;"><o:p></o:p></span></p>\n\n<p class="ydpcfb5fc95yiv8652373511msonormal"><span style="font-size: 12px\;"><span style="font-family: Helvetica\, sans-serif\; color: rgb(38\, 40\, 42)\;">&bull\;&nbsp\;&nbsp\;&nbsp\;&nbsp\;&nbsp\;&nbsp\;&nbsp\;&nbsp\;&nbsp\;&nbsp\;&nbsp\;&nbsp\; Act as the liaisons to the genYP Leadership Team and Urbandale Chamber.</span></span><span style="font-size: 10pt\; font-family: Helvetica\, &quot\;sans-serif&quot\;\; color: rgb(38\, 40\, 42)\;"><o:p></o:p></span></p>\n<br />\nIf you are interested in learning more\, please contact our chair below or join us at one of our meetings.\n<p>Chair: Holly Adams\, holly@adamsfamrealty.com</p>\n\n<p class="ydpcfb5fc95yiv8652373511msonormal"><span style="font-size: 12px\;"><span style="font-family: Helvetica\, sans-serif\; color: rgb(38\, 40\, 42)\;">This committee meets monthly with the intention of increasing genYP&rsquo\;s involvement in the community as well as genYP&rsquo\;s awareness of the community. The committee acts as the liaison to our chamber&rsquo\;s non-profit members\, seeking out opportunities for genYP to be of assistance and involved. The committee also manages occasional events throughout the year.</span></span><span style="font-size: 10pt\; font-family: Helvetica\, &quot\;sans-serif&quot\;\; color: rgb(38\, 40\, 42)\;"><o:p></o:p></span></p>\n\n<p class="ydpcfb5fc95yiv8652373511msonormal"><span style="font-size: 12px\;"><span style="font-family: Helvetica\, sans-serif\; color: rgb(38\, 40\, 42)\;">Expectations of committee members include:</span></span><span style="font-size: 10pt\; font-family: Helvetica\, &quot\;sans-serif&quot\;\; color: rgb(38\, 40\, 42)\;"><o:p></o:p></span></p>\n\n<p class="ydpcfb5fc95yiv8652373511msonormal"><span style="font-size: 12px\;"><span style="font-family: Helvetica\, sans-serif\; color: rgb(38\, 40\, 42)\;">&bull\;&nbsp\;&nbsp\;&nbsp\;&nbsp\;&nbsp\;&nbsp\;&nbsp\;&nbsp\;&nbsp\;&nbsp\;&nbsp\;&nbsp\; Attendance &ndash\; please attend our monthly meetings and occasional events as regularly as possible.</span></span><span style="font-size: 10pt\; font-family: Helvetica\, &quot\;sans-serif&quot\;\; color: rgb(38\, 40\, 42)\;"><o:p></o:p></span></p>\n\n<p class="ydpcfb5fc95yiv8652373511msonormal"><span style="font-size: 12px\;"><span style="font-family: Helvetica\, sans-serif\; color: rgb(38\, 40\, 42)\;">&bull\;&nbsp\;&nbsp\;&nbsp\;&nbsp\;&nbsp\;&nbsp\;&nbsp\;&nbsp\;&nbsp\;&nbsp\;&nbsp\;&nbsp\; Ideas &ndash\; please bring your ideas to the table. In the past our best ideas have come from committee members.</span></span><span style="font-size: 10pt\; font-family: Helvetica\, &quot\;sans-serif&quot\;\; color: rgb(38\, 40\, 42)\;"><o:p></o:p></span></p>\n\n<p class="ydpcfb5fc95yiv8652373511msonormal"><span style="font-size: 12px\;"><span style="font-family: Helvetica\, sans-serif\; color: rgb(38\, 40\, 42)\;">&bull\;&nbsp\;&nbsp\;&nbsp\;&nbsp\;&nbsp\;&nbsp\;&nbsp\;&nbsp\;&nbsp\;&nbsp\;&nbsp\;&nbsp\; Feedback &ndash\; as you attend/participate in genYP Civic events and projects\, sharing valuable feedback helps the committee improve for the future.</span></span><span style="font-size: 10pt\; font-family: Helvetica\, &quot\;sans-serif&quot\;\; color: rgb(38\, 40\, 42)\;"><o:p></o:p></span></p>\n\n<p class="ydpcfb5fc95yiv8652373511msonormal"><span style="font-size: 12px\;"><span style="font-family: Helvetica\, sans-serif\; color: rgb(38\, 40\, 42)\;">Chair &amp\; Co-Chair responsibilities include:</span></span><span style="font-size: 10pt\; font-family: Helvetica\, &quot\;sans-serif&quot\;\; color: rgb(38\, 40\, 42)\;"><o:p></o:p></span></p>\n\n<p class="ydpcfb5fc95yiv8652373511msonormal"><span style="font-size: 12px\;"><span style="font-family: Helvetica\, sans-serif\; color: rgb(38\, 40\, 42)\;">&bull\;&nbsp\;&nbsp\;&nbsp\;&nbsp\;&nbsp\;&nbsp\;&nbsp\;&nbsp\;&nbsp\;&nbsp\;&nbsp\;&nbsp\; Lead the committee to implement ideas and projects.</span></span><span style="font-size: 10pt\; font-family: Helvetica\, &quot\;sans-serif&quot\;\; color: rgb(38\, 40\, 42)\;"><o:p></o:p></span></p>\n\n<p class="ydpcfb5fc95yiv8652373511msonormal"><span style="font-size: 12px\;"><span style="font-family: Helvetica\, sans-serif\; color: rgb(38\, 40\, 42)\;">&bull\;&nbsp\;&nbsp\;&nbsp\;&nbsp\;&nbsp\;&nbsp\;&nbsp\;&nbsp\;&nbsp\;&nbsp\;&nbsp\;&nbsp\; Act as the liaisons to the genYP Leadership Team and Urbandale Chamber.</span></span><span style="font-size: 10pt\; font-family: Helvetica\, &quot\;sans-serif&quot\;\; color: rgb(38\, 40\, 42)\;"><o:p></o:p></span></p>\n<br />\nIf you are interested in learning more\, please contact our chair below or join us at one of our meetings.\n<p>Chair: Holly Adams\, holly@adamsfamrealty.com&nbsp\;</p>\n
LOCATION:Virtually\, please contact Chair\, Holly Adams (holly@adamsfamrealty.com) for the link.
UID:e.1185.9880
SEQUENCE:3
DTSTAMP:20260421T165855Z
URL:http://business.uniquelyurbandale.com/events/details/genyp-civic-engagement-committee-meeting-02-20-2024-9880
END:VEVENT

END:VCALENDAR
