BEGIN:VCALENDAR
VERSION:2.0
PRODID:-//ChamberMaster//Event Calendar 2.0//EN
METHOD:PUBLISH
X-PUBLISHED-TTL:P3D
REFRESH-INTERVAL:P3D
CALSCALE:GREGORIAN
BEGIN:VEVENT
DTSTART:20230517T170000Z
DTEND:20240617T170000Z
X-MICROSOFT-CDO-ALLDAYEVENT:FALSE
SUMMARY:Free Strategy Session to Write Your Book
DESCRIPTION:Are you a business owner that wants to write a book to grow your business? Are you a speaker that could increase your revenue through writing a book? Have you always wanted to write a book.... But....you just don't know how to do it? Schedule a free 30-minute one-on-one Strategy Session with award-winning Author Jackie Haley and get the answers you need to be successful.
X-ALT-DESC;FMTTYPE=text/html:Are you a business owner that wants to write a book to grow your business? Are you a speaker that could increase your revenue through writing a book? Have you always wanted to write a book.... But....you just don&#39\;t know how to do it? Schedule a free 30-minute one-on-one Strategy Session with award-winning Author Jackie Haley and get the answers you need to be successful.
LOCATION:Virtual
UID:e.1185.13054
SEQUENCE:3
DTSTAMP:20260421T124833Z
URL:http://business.uniquelyurbandale.com/events/details/free-strategy-session-to-write-your-book-13054
END:VEVENT

END:VCALENDAR
