BEGIN:VCALENDAR
VERSION:2.0
PRODID:-//ChamberMaster//Event Calendar 2.0//EN
METHOD:PUBLISH
X-PUBLISHED-TTL:P3D
REFRESH-INTERVAL:P3D
CALSCALE:GREGORIAN
BEGIN:VEVENT
DTSTART;VALUE=DATE:20241022
DTEND;VALUE=DATE:20241023
TRANSP:TRANSPARENT
X-MICROSOFT-CDO-ALLDAYEVENT:TRUE
SUMMARY:Free Screen Day at Kinetic Edge Physical Therapy in Des Moines
DESCRIPTION:Kinetic Edge Physical Therapy in Des Moines is hosting a FREE Injury Screen Day on October 22! Come see if physical therapy is right for you and get the opinion of a medical professional!
X-ALT-DESC;FMTTYPE=text/html:Kinetic Edge Physical Therapy in Des Moines is hosting a FREE Injury Screen Day on October 22! Come see if physical therapy is right for you and get the opinion of a medical professional!
LOCATION:6000 Grand Ave Suite K\, Des Moines\, IA 50312
UID:e.1185.15790
SEQUENCE:3
DTSTAMP:20260421T061545Z
URL:http://business.uniquelyurbandale.com/events/details/free-screen-day-at-kinetic-edge-physical-therapy-in-des-moines-15790
END:VEVENT

END:VCALENDAR
