BEGIN:VCALENDAR
VERSION:2.0
PRODID:-//ChamberMaster//Event Calendar 2.0//EN
METHOD:PUBLISH
X-PUBLISHED-TTL:P3D
REFRESH-INTERVAL:P3D
CALSCALE:GREGORIAN
BEGIN:VEVENT
DTSTART:20240627T190000Z
DTEND:20240627T200000Z
X-MICROSOFT-CDO-ALLDAYEVENT:FALSE
SUMMARY:Free Probiotic Kickoff Hosted by ProbioFerm
DESCRIPTION:ProbioFerm is promoting our unique KE99 supplement and we want your feedback! We are looking to conduct a free trial involving our most popular product. The value for us lies in the responses we get from you! Our patented strain promotes better overall health and energy\, improves intestinal health\, and reverses the negative effects of an unhealthy gut biome. All that we ask is that is that you complete our short survey. It connects us with the people we are helping and can inform our formulation of products firsthand. Attend to find out more about what we do and receive your 30 day supply. Thank you for helping us begin our journey of making Iowa happier and healthier.
X-ALT-DESC;FMTTYPE=text/html:<span style="font-size:14px"><span style="font-family:arial\,helvetica\,sans-serif"><span style="color:#000000">ProbioFerm is promoting our unique KE99 supplement and we want your feedback!&nbsp\;We are looking to conduct a free trial involving our most popular product. The value for us lies in the responses we get from you! Our patented strain promotes better overall health and energy\, improves intestinal health\, and reverses the negative effects of an unhealthy gut biome. All that we ask is that is that you complete our short survey. It connects us with the people we are helping and can inform our formulation of products firsthand. Attend to find out more about what we do and receive your 30 day supply. Thank you for helping us begin our journey of making Iowa happier and healthier.</span></span></span>
LOCATION:Urbandale Chamber of Commerce 2830 100 Street\, Suite 110\, Urbandale\, IA 50322
UID:e.1185.15572
SEQUENCE:3
DTSTAMP:20260421T124812Z
URL:http://business.uniquelyurbandale.com/events/details/free-probiotic-kickoff-hosted-by-probioferm-15572
END:VEVENT

END:VCALENDAR
