BEGIN:VCALENDAR
VERSION:2.0
PRODID:-//ChamberMaster//Event Calendar 2.0//EN
METHOD:PUBLISH
X-PUBLISHED-TTL:P3D
REFRESH-INTERVAL:P3D
CALSCALE:GREGORIAN
BEGIN:VEVENT
DTSTART:20231010T130000Z
DTEND:20231010T220000Z
X-MICROSOFT-CDO-ALLDAYEVENT:FALSE
SUMMARY:Free Injury & Movement Screen Day/ Des Moines
DESCRIPTION:On October 10th\, Kinetic Edge is hosting a day of free screen for anyone who's sick of dealing with pain\, movement problems or an injury. Your free screen consists of a 20-minute one-on-one appointment with one of our movement experts! This expert will ask you about the history of your problem and then test your strength and how well you move. This free screen is ideal for people suffering with:   Lower back pain   Arthritis   Sciatica   Neck Pain   Headaches   Shoulder pain   Knee pain   Problems walking or balancing   Hand or wrist pain These appointments are FREE\, but limited\, as we only have 20 spots available. Go to https://www.kineticedgept.com/free-screen/ or call 515-309-4706 now to schedule your free screen.
X-ALT-DESC;FMTTYPE=text/html:On October 10th\, Kinetic Edge is hosting a day of free screen for anyone who&rsquo\;s sick of dealing with pain\, movement problems or an injury. Your free screen consists of a 20-minute one-on-one appointment with one of our movement experts! This expert will ask you about the history of your problem and then test your strength and how well you move. This free screen is ideal for people suffering with: &bull\; Lower back pain &bull\; Arthritis &bull\; Sciatica &bull\; Neck Pain &bull\; Headaches &bull\; Shoulder pain &bull\; Knee pain &bull\; Problems walking or balancing &bull\; Hand or wrist pain These appointments are FREE\, but limited\, as we only have 20 spots available. Go to https://www.kineticedgept.com/free-screen/ or call 515-309-4706 now to schedule your free screen.
LOCATION:Kinetic Edge Physical Therapy 6000 Grand Ave\, Suite K\, Des Moines\, IA 50312
UID:e.1185.13160
SEQUENCE:3
DTSTAMP:20260421T225917Z
URL:http://business.uniquelyurbandale.com/events/details/free-injury-movement-screen-day-des-moines-13160
END:VEVENT

END:VCALENDAR
