BEGIN:VCALENDAR
VERSION:2.0
PRODID:-//ChamberMaster//Event Calendar 2.0//EN
METHOD:PUBLISH
X-PUBLISHED-TTL:P3D
REFRESH-INTERVAL:P3D
CALSCALE:GREGORIAN
BEGIN:VEVENT
DTSTART:20240408T180000Z
DTEND:20240408T190000Z
X-MICROSOFT-CDO-ALLDAYEVENT:FALSE
SUMMARY:Franklin Avenue Library Afternoon Book Discussion
DESCRIPTION:April's selection is Calling for a Blanket Dance by Oscar Hokeah.\n\nThe Franklin Afternoon Book Discussion is a regularly scheduled book club meeting on the second Monday of the month. Titles are selected from various genres and copies of the next month's book are available at the end of each discussion or at the Help Desk. All patrons are welcome!
X-ALT-DESC;FMTTYPE=text/html:<p>April&#39\;s selection is&nbsp\;<em>Calling for a Blanket Dance</em>&nbsp\;by Oscar Hokeah.</p>\n\n<p>The Franklin Afternoon Book Discussion is a regularly scheduled book club meeting on the second Monday of the month. Titles are selected from various genres and copies of the next month&#39\;s book are available at the end of each discussion or at the Help Desk. All patrons are welcome!</p>\n
LOCATION:Franklin Avenue Library 5000 Franklin Avenue Des Moines\, IA 50310
UID:e.1185.15112
SEQUENCE:3
DTSTAMP:20260421T152737Z
URL:http://business.uniquelyurbandale.com/events/details/franklin-avenue-library-afternoon-book-discussion-15112
END:VEVENT

END:VCALENDAR
