BEGIN:VCALENDAR
VERSION:2.0
PRODID:-//ChamberMaster//Event Calendar 2.0//EN
METHOD:PUBLISH
X-PUBLISHED-TTL:P3D
REFRESH-INTERVAL:P3D
CALSCALE:GREGORIAN
BEGIN:VEVENT
DTSTART:20240129T220000Z
DTEND:20240129T230000Z
X-MICROSOFT-CDO-ALLDAYEVENT:FALSE
SUMMARY:First TRC Rally
DESCRIPTION:Attention TRC volunteers!  It is time to rally for the 2024 TRC Campaign!  These rallies are not required to attend\, however they are a lot of fun and strongly encouraged.\n\n\n\nThe TRC rally is the perfect time to get your questions answered\, re-connect with your team\, receive your incentives for the week\, pick up some awesome prizes and more!  You don't want to miss these sessions.  Food and Beverages are provided so reservations are required.    \n\n\n\nThe rally session appetizers are being catered by Tito's Lounge and sure to be delish!
X-ALT-DESC;FMTTYPE=text/html:<span style="font-family:arial\;"><span style="font-size:14px\;">Attention TRC volunteers!&nbsp\; It is time to rally for the 2024 TRC Campaign!&nbsp\; These rallies are not required to attend\, however they are a lot of fun and strongly encouraged.<br />\n<br />\nThe TRC rally is the perfect time to get your questions answered\, re-connect with your team\, receive your incentives for the week\, pick up some awesome prizes and more!&nbsp\; You don&#39\;t want to miss these sessions.&nbsp\; <strong>Food and Beverages are provided so reservations are required.&nbsp\; &nbsp\;&nbsp\;<br />\n<br />\nThe rally session appetizers are being catered by <a href="https://businesses.uniquelyurbandale.com/list/Member/tito-s-lounge-6480">Tito&#39\;s Lounge</a>&nbsp\;and sure to be delish!&nbsp\;&nbsp\;</strong></span></span>
LOCATION:Aisha R. Syed Board Room Realtor | Iowa Realty Urbandale Chamber of Commerce 2830 100th St.\, Ste. 110\, Urbandale
UID:e.1185.14748
SEQUENCE:3
DTSTAMP:20260421T210033Z
URL:http://business.uniquelyurbandale.com/events/details/first-trc-rally-14748
END:VEVENT

END:VCALENDAR
