BEGIN:VCALENDAR
VERSION:2.0
PRODID:-//ChamberMaster//Event Calendar 2.0//EN
METHOD:PUBLISH
X-PUBLISHED-TTL:P3D
REFRESH-INTERVAL:P3D
CALSCALE:GREGORIAN
BEGIN:VEVENT
DTSTART:20230829T223000Z
DTEND:20230830T010000Z
X-MICROSOFT-CDO-ALLDAYEVENT:FALSE
SUMMARY:Film Screening: Gridshock + Internet Safety
DESCRIPTION:[5:30 p.m.] Film Screening of Gridshock\, a documentary exposing the hidden and disturbing reality behind sex trafficking in Iowa and the often-overlooked reality about why the industry thrives - because there is a demand for it. The film features survivors of sex trafficking\, local and federal law enforcement\, advocates\, politicians\, and a recovering sex addict. What you think you know about sex trafficking will be challenged.\n \n\n[7 p.m.] Internet Safety The National Human Trafficking Hotline reported an 1\,800% increase in online grooming and exploitation since 2021. Learn more from Melody Stone MA\, LMHC Founder\, North & Central Iowa Coalition Against Human Trafficking about the signs\, how to avoid being targeted\, how to keep yourself safe from traffickers and predators on/offline\, and safeguard your devices. \n\n \n\nDue to the mature content of the film and discussion\, this program is intended for mature audiences (recommended 16+ for film\; 10+ with parent for discussion.)
X-ALT-DESC;FMTTYPE=text/html:<u>[5:30 p.m.] Film Screening of&nbsp\;<em>Gridshock\,</em></u><span style="color:rgb(87\, 90\, 93)\; font-family:helvetica neue\,helvetica\,arial\,sans-serif"><em>&nbsp\;</em></span><span style="color:rgb(87\, 90\, 93)\; font-family:helvetica neue\,helvetica\,arial\,sans-serif">a documentary exposing the hidden and disturbing reality behind sex trafficking in Iowa and the often-overlooked reality about why the industry thrives - because there is a demand for it. The film features survivors of sex trafficking\, local and federal law enforcement\, advocates\, politicians\, and a recovering sex addict. What you think you know about sex trafficking will be challenged.</span>\n<div>&nbsp\;</div>\n\n<div><u>[7 p.m.] Internet Safety</u>&nbsp\;The National Human Trafficking Hotline reported an 1\,800% increase in online grooming and exploitation since 2021. Learn more from&nbsp\;Melody Stone MA\, LMHC Founder\, North &amp\; Central Iowa Coalition Against Human Trafficking about the signs\, how to avoid being targeted\, how to keep yourself safe from traffickers and predators on/offline\, and safeguard your devices.&nbsp\;</div>\n\n<div>&nbsp\;</div>\n\n<div><em>Due to the mature content of the film and discussion\, this program is intended for mature audiences (recommended 16+ for film\; 10+ with parent for discussion.)</em></div>\n
LOCATION:Urbandale Public Library\, Meeting Rooms A/B
UID:e.1185.13126
SEQUENCE:3
DTSTAMP:20260422T015927Z
URL:http://business.uniquelyurbandale.com/events/details/film-screening-gridshock-internet-safety-13126
END:VEVENT

END:VCALENDAR
