BEGIN:VCALENDAR
VERSION:2.0
PRODID:-//ChamberMaster//Event Calendar 2.0//EN
METHOD:PUBLISH
X-PUBLISHED-TTL:P3D
REFRESH-INTERVAL:P3D
CALSCALE:GREGORIAN
BEGIN:VEVENT
DTSTART:20240511T140000Z
DTEND:20240511T210000Z
X-MICROSOFT-CDO-ALLDAYEVENT:FALSE
SUMMARY:Fido On The Farms
DESCRIPTION:We welcome dogs to the museum all season\, but this is their special day! Saturday\, May 4   9 a.m.-4 p.m.   All activities included with General Admission Bring your well-behaved pup to visit our farm sites\, walk the trail\, and tour the 1876 town of Walnut Hill. Dogs must be on standard non-retractable leashes and must remain outside buildings and away from livestock areas.
X-ALT-DESC;FMTTYPE=text/html:We welcome dogs to the museum all season\, but this is their special day! Saturday\, May 4 &bull\; 9 a.m.-4 p.m. &bull\; All activities included with General Admission Bring your well-behaved pup to visit our farm sites\, walk the trail\, and tour the 1876 town of Walnut Hill. Dogs must be on standard non-retractable leashes and must remain outside buildings and away from livestock areas.
LOCATION:Living History Farms 11121 Hickman Road Urbandale\, IA
UID:e.1185.15012
SEQUENCE:3
DTSTAMP:20260421T130207Z
URL:http://business.uniquelyurbandale.com/events/details/fido-on-the-farms-15012
END:VEVENT

END:VCALENDAR
