BEGIN:VCALENDAR
VERSION:2.0
PRODID:-//ChamberMaster//Event Calendar 2.0//EN
METHOD:PUBLISH
X-PUBLISHED-TTL:P3D
REFRESH-INTERVAL:P3D
CALSCALE:GREGORIAN
BEGIN:VEVENT
DTSTART:20231214T180000Z
DTEND:20231214T200000Z
X-MICROSOFT-CDO-ALLDAYEVENT:FALSE
SUMMARY:Farmers State Bank Ribbon Cutting Ceremony
DESCRIPTION:Join the Urbandale\, Waukee\, and West Des Moines Chambers in celebrating Farmers State Bank's (FSB) new location Ribbon Cutting.
X-ALT-DESC;FMTTYPE=text/html:<strong style="font-family: sans-serif\, Arial\, Verdana\, &quot\;Trebuchet MS&quot\;\; font-size: 13px\; color: rgb(75\, 0\, 130)\;"><span style="font-size: 20px\;">Join the Urbandale\, Waukee\, and West Des Moines Chambers in celebrating Farmers State Bank&#39\;s (FSB) new location Ribbon Cutting.</span></strong>
LOCATION:Farmers State Bank (FSB) 9750 University Ave. West Des Moines\, IA 50266
UID:e.1185.13269
SEQUENCE:3
DTSTAMP:20260421T194432Z
URL:http://business.uniquelyurbandale.com/events/details/farmers-state-bank-ribbon-cutting-ceremony-13269
END:VEVENT

END:VCALENDAR
