BEGIN:VCALENDAR
VERSION:2.0
PRODID:-//ChamberMaster//Event Calendar 2.0//EN
METHOD:PUBLISH
X-PUBLISHED-TTL:P3D
REFRESH-INTERVAL:P3D
CALSCALE:GREGORIAN
BEGIN:VEVENT
DTSTART:20241018T220000Z
DTEND:20241028T000000Z
X-MICROSOFT-CDO-ALLDAYEVENT:FALSE
SUMMARY:Family Halloween
DESCRIPTION:A townful of treats for your little tricksters! October 18-20 & 25-27 $9 for ages 2 and up ($8 for members\; 1 and under free) Take part in the annual Living History Farms Family Halloween! Trick-or-treat at storefronts in the 1876 town of Walnut Hill. Hear storytellers in the Gothic church. Have your silly fortune told in the Millinery. Watch demonstrations at the Print Shop\, Drug Store\, and Blacksmith. Play games and do crafts in the 150-year-old barn. Take a horse-drawn wagon ride! Dates and times: Friday\, October 18\, 5-8 p.m. Saturday\, October 19\, 5-8 p.m. Sunday\, October 20\, 4-7 p.m. Friday\, October 25\, 5-8 p.m. Saturday\, October 26\, 5-8 p.m. Sunday\, October 27\, 4-7 p.m.
X-ALT-DESC;FMTTYPE=text/html:A townful of treats for your little tricksters! October 18-20 &amp\; 25-27 $9 for ages 2 and up ($8 for members\; 1 and under free) Take part in the annual Living History Farms Family Halloween! Trick-or-treat at storefronts in the 1876 town of Walnut Hill. Hear storytellers in the Gothic church. Have your silly fortune told in the Millinery. Watch demonstrations at the Print Shop\, Drug Store\, and Blacksmith. Play games and do crafts in the 150-year-old barn. Take a horse-drawn wagon ride! Dates and times: Friday\, October 18\, 5-8 p.m. Saturday\, October 19\, 5-8 p.m. Sunday\, October 20\, 4-7 p.m. Friday\, October 25\, 5-8 p.m. Saturday\, October 26\, 5-8 p.m. Sunday\, October 27\, 4-7 p.m.
LOCATION:Living History Farms 11121 Hickman Rd. Urbandale\, IA
UID:e.1185.15019
SEQUENCE:3
DTSTAMP:20260421T061539Z
URL:http://business.uniquelyurbandale.com/events/details/family-halloween-10-18-2024-15019
END:VEVENT

END:VCALENDAR
