BEGIN:VCALENDAR
VERSION:2.0
PRODID:-//ChamberMaster//Event Calendar 2.0//EN
METHOD:PUBLISH
X-PUBLISHED-TTL:P3D
REFRESH-INTERVAL:P3D
CALSCALE:GREGORIAN
BEGIN:VEVENT
DTSTART:20240227T233000Z
DTEND:20240228T003000Z
X-MICROSOFT-CDO-ALLDAYEVENT:FALSE
SUMMARY:Explore Ancient Greece Travel Informational Session
DESCRIPTION:Explore Ancient Greece with the Urbandale Chamber!\n\n\n\nDeparting out of Des Moines\, Iowa\, the group will depart on September 19\, 2024 and arrive in Athens\, Greece the next day.  \n\n\n\nThis trip includes round trip airfare\, round trip transfers\, 7-nights at the Isla Brown Corinthia Resort & Spa\, an Hilton resort\, breakfast and dinner while at the hotel\, a City tour of Athens\, a tour of the Parthenon & Acropolis\, Corinth Canal Crossing and a Full day in Mycenae\, Epidaurus & Nafplion.\n\n\n\nLearn more at the Chamber's informational session on February 27 at 5:30 p.m. either in person or virtually.  The discounted price of $3\,599 is available for any deposits made between January 1\, 2024 - March 19\, 2024.  Full price is $3799 per person based on double occupancy begins after March 19\, 2024.
X-ALT-DESC;FMTTYPE=text/html:<span style="font-family:verdana\;"><span style="font-size:14px\;"><span style="box-sizing: border-box\; margin: 0px\; padding: 0px\; border: 0px\; outline: 0px\; text-size-adjust: 100%\; vertical-align: baseline\; background-image: initial\; background-position: initial\; background-size: initial\; background-repeat: initial\; background-attachment: initial\; background-origin: initial\; background-clip: initial\; color: rgb(68\, 68\, 68)\;"><span style="box-sizing: border-box\; margin: 0px\; padding: 0px\; border: 0px\; outline: 0px\; text-size-adjust: 100%\; vertical-align: baseline\; background: transparent\; color: rgb(0\, 100\, 0)\;"><span style="box-sizing: border-box\; margin: 0px\; padding: 0px\; border: 0px\; outline: 0px\; text-size-adjust: 100%\; vertical-align: baseline\; background: transparent\; font-weight: bolder\;">Explore Ancient Greece with the Urbandale Chamber!</span></span></span><br style="box-sizing: border-box\; color: rgb(68\, 68\, 68)\; font-family: Arial\, Helvetica\, sans-serif\; font-size: 14px\;" />\n<br style="box-sizing: border-box\; color: rgb(68\, 68\, 68)\; font-family: Arial\, Helvetica\, sans-serif\; font-size: 14px\;" />\n<span style="box-sizing: border-box\; margin: 0px\; padding: 0px\; border: 0px\; outline: 0px\; text-size-adjust: 100%\; vertical-align: baseline\; background-image: initial\; background-position: initial\; background-size: initial\; background-repeat: initial\; background-attachment: initial\; background-origin: initial\; background-clip: initial\; color: rgb(68\, 68\, 68)\;">Departing out of Des Moines\, Iowa\, the group will depart on September 19\, 2024 and arrive in Athens\, Greece the next day.&nbsp\;&nbsp\;<br style="box-sizing: border-box\;" />\n<br style="box-sizing: border-box\;" />\nThis trip includes round trip airfare\, round trip transfers\, 7-nights at the </span><span style="color: rgb(32\, 33\, 36)\;">Isla Brown Corinthia Resort &amp\; Spa</span><span style="box-sizing: border-box\; margin: 0px\; padding: 0px\; border: 0px\; outline: 0px\; text-size-adjust: 100%\; vertical-align: baseline\; background-image: initial\; background-position: initial\; background-size: initial\; background-repeat: initial\; background-attachment: initial\; background-origin: initial\; background-clip: initial\; color: rgb(68\, 68\, 68)\;">\, an Hilton resort\, breakfast and dinner while at the hotel\, a City tour of Athens\, a tour of the Parthenon &amp\; Acropolis\, Corinth Canal Crossing and a Full day in Mycenae\, Epidaurus &amp\; Nafplion.</span><br style="box-sizing: border-box\; color: rgb(68\, 68\, 68)\; font-family: Arial\, Helvetica\, sans-serif\; font-size: 14px\;" />\n<br style="box-sizing: border-box\; color: rgb(68\, 68\, 68)\; font-family: Arial\, Helvetica\, sans-serif\; font-size: 14px\;" />\n<span style="box-sizing: border-box\; margin: 0px\; padding: 0px\; border: 0px\; outline: 0px\; text-size-adjust: 100%\; vertical-align: baseline\; background-image: initial\; background-position: initial\; background-size: initial\; background-repeat: initial\; background-attachment: initial\; background-origin: initial\; background-clip: initial\; color: rgb(68\, 68\, 68)\;">Learn more at the Chamber&#39\;s informational session on February 27 at 5:30 p.m. either in person or virtually.&nbsp\; The discounted price of $3\,599 is available for any deposits made between January 1\, 2024 - March 19\, 2024.&nbsp\; Full price is $3799 per person based on double occupancy begins after March 19\, 2024.</span></span></span>
LOCATION:Urbandale Chamber of Commerce Aisha R. Syed | Board Room Realtor\, Iowa Realty 2830 100th St.\, Ste. 110 Urbandale\,IA 50322
UID:e.1185.14981
SEQUENCE:3
DTSTAMP:20260421T165446Z
URL:http://business.uniquelyurbandale.com/events/details/explore-ancient-greece-travel-informational-session-14981
END:VEVENT

END:VCALENDAR
