BEGIN:VCALENDAR
VERSION:2.0
PRODID:-//ChamberMaster//Event Calendar 2.0//EN
METHOD:PUBLISH
X-PUBLISHED-TTL:P3D
REFRESH-INTERVAL:P3D
CALSCALE:GREGORIAN
BEGIN:VEVENT
DTSTART:20240401T221500Z
DTEND:20240402T001500Z
X-MICROSOFT-CDO-ALLDAYEVENT:FALSE
SUMMARY:EWI Monthly Dinner
DESCRIPTION:Please join us on the first Monday of the month\; we meet at a different location\, have an interesting program\, and enjoy food from a variety of restaurants. $30/per person. For our April meeting we are TWO TOP OFFICIALS in the housing industry as our speakers\; Daniel Knoup Executive Officer - Greater Des Moines Homebuilders Association and Jason Froehlich President at HomeServices Lending LLC The housing market is considered a key driver of economic growth\, as it affects various sectors\, including construction\, finance\, and retail. HBA The Home Builders Association of Greater Des Moines\, or DSMHBA\, is made up of local builders\, remodelers and suppliers who in cooperation with our associates and affiliate council members have committed to supporting the industry while practicing their trade craft with the upmost integrity in the Central Iowa communities we serve. Members of the Home Builders Association of Greater Des Moines believe and affirm that home ownership can and should be within reach of every American family. Our members have dedicated themselves to applying the best practices in home building in order to produce well-designed\, well-constructed and well-located homes for consumers in the attractive\, local communities we serve. HSL As a Realtor \, I cannot tell you how many times people have asked me\, "What are the interest rates" now is your chance to ask the expert about rates. HomeServices Lending provides a wide range of home financing programs and products including conventional conforming\, FHA and VA loans\, larger loan amounts\, investment property financing and renovation loans. I believe\, we will be having Jethro's BBQ (just need to finalize). Registration deadline is March 28th.
X-ALT-DESC;FMTTYPE=text/html:Please join us on the first Monday of the month\; we meet at a different location\, have an interesting program\, and enjoy food from a variety of restaurants. $30/per person. For our April meeting we are TWO TOP OFFICIALS in the housing industry as our speakers\; Daniel Knoup Executive Officer - Greater Des Moines Homebuilders Association and Jason Froehlich President at HomeServices Lending LLC The housing market is considered a key driver of economic growth\, as it affects various sectors\, including construction\, finance\, and retail. HBA The Home Builders Association of Greater Des Moines\, or DSMHBA\, is made up of local builders\, remodelers and suppliers who in cooperation with our associates and affiliate council members have committed to supporting the industry while practicing their trade craft with the upmost integrity in the Central Iowa communities we serve. Members of the Home Builders Association of Greater Des Moines believe and affirm that home ownership can and should be within reach of every American family. Our members have dedicated themselves to applying the best practices in home building in order to produce well-designed\, well-constructed and well-located homes for consumers in the attractive\, local communities we serve. HSL As a Realtor&reg\;\, I cannot tell you how many times people have asked me\, &ldquo\;What are the interest rates&rdquo\;&hellip\;now is your chance to ask the expert about rates. HomeServices Lending provides a wide range of home financing programs and products including conventional conforming\, FHA and VA loans\, larger loan amounts\, investment property financing and renovation loans. I believe\, we will be having Jethro&rsquo\;s BBQ (just need to finalize). Registration deadline is March 28th.
LOCATION:Home Builders Association Of Des Moines 6751 Corporate Dr. Johnston\, IA 50131
UID:e.1185.15117
SEQUENCE:3
DTSTAMP:20260421T141248Z
URL:http://business.uniquelyurbandale.com/events/details/ewi-monthly-dinner-15117
END:VEVENT

END:VCALENDAR
