BEGIN:VCALENDAR
VERSION:2.0
PRODID:-//ChamberMaster//Event Calendar 2.0//EN
METHOD:PUBLISH
X-PUBLISHED-TTL:P3D
REFRESH-INTERVAL:P3D
CALSCALE:GREGORIAN
BEGIN:VEVENT
DTSTART:20240608T140000Z
DTEND:20240608T210000Z
X-MICROSOFT-CDO-ALLDAYEVENT:FALSE
SUMMARY:Emancipation Day & Historic Baseball
DESCRIPTION:Explore the Black experience in Iowa's history! June 8   9 a.m.-4 p.m. All presentations\, activities\, and exhibits included with General Admission Gain a better understanding of the legacy and hope of emancipation and explore the Black experience in Iowa from early farmsteads through the fight for civil rights. The day will end with a Historic Baseball game played by 1876 rules.
X-ALT-DESC;FMTTYPE=text/html:Explore the Black experience in Iowa&rsquo\;s history! June 8 &bull\; 9 a.m.-4 p.m. All presentations\, activities\, and exhibits included with General Admission Gain a better understanding of the legacy and hope of emancipation and explore the Black experience in Iowa from early farmsteads through the fight for civil rights. The day will end with a Historic Baseball game played by 1876 rules.
LOCATION:Living History Farms 11121 Hickman Rd. Urbandale\, IA
UID:e.1185.15014
SEQUENCE:3
DTSTAMP:20260421T113454Z
URL:http://business.uniquelyurbandale.com/events/details/emancipation-day-historic-baseball-15014
END:VEVENT

END:VCALENDAR
