BEGIN:VCALENDAR
VERSION:2.0
PRODID:-//ChamberMaster//Event Calendar 2.0//EN
METHOD:PUBLISH
X-PUBLISHED-TTL:P3D
REFRESH-INTERVAL:P3D
CALSCALE:GREGORIAN
BEGIN:VEVENT
DTSTART:20260312T160000Z
DTEND:20260312T200000Z
X-MICROSOFT-CDO-ALLDAYEVENT:FALSE
SUMMARY:Duck\, Duck… CYCLONES! Game Watch Party
DESCRIPTION:The Cyclones are taking on the Big 12\, and there's no better place to gather your flock than The Ducktail Lounge who is opening early for this game watch on Thursday (assuming they win on Wednesday)! \n\n\n\nWe're turning the lounge into Cyclone Central   big screen\, big energy\, and just enough friendly quacking at the refs to keep things interesting.\n\n\n\nOrder pizza from our Chamber friends at Roberto's Pizza   because every three-pointer deserves a celebratory slice.\n\nSip on creative mocktails while you cheer\, chant "I-S-U!"\, and ruffle a few Big 12 feathers. (a full bar is also available) \n\n\n\nWear your cardinal and gold.\n\nBring your loudest game-day energy.\n\nAnd come ready to flock together for a Cyclone victory.\n\n\n\nHave some fun over your lunch hour to enjoy good company\, great pizza\, and a whole lot of Cyclone spirit!  Feel free to invite your friends.  We just ask you to register so that The Ducktail Staff can accommodate us since they are opening special for this Game Watch.
X-ALT-DESC;FMTTYPE=text/html:<p data-end="187" data-start="68">The Cyclones are taking on the Big 12\, and there&rsquo\;s no better place to gather your flock than <a href="https://businesses.uniquelyurbandale.com/list/member/the-ducktail-lounge-2662"><strong>The Ducktail Lounge</strong></a> who is opening early for this game watch on Thursday (assuming they win on Wednesday)!&nbsp\;<br />\n<br />\nWe&rsquo\;re turning the lounge into <strong>Cyclone Central </strong>&mdash\; big screen\, big energy\, and just enough friendly quacking at the refs to keep things interesting.<br />\n<br />\nOrder pizza from our Chamber friends at <a href="https://businesses.uniquelyurbandale.com/list/member/roberto-s-foods-10990">Roberto&#39\;s Pizza </a>&mdash\; because every three-pointer deserves a celebratory slice.<br />\nSip on creative mocktails while you cheer\, chant &ldquo\;I-S-U!&rdquo\;\, and ruffle a few Big 12 feathers.&nbsp\;(a full bar is also available)&nbsp\;<br />\n<br />\nWear your cardinal and gold.<br />\nBring your loudest game-day energy.<br />\nAnd come ready to flock together for a Cyclone victory.<br />\n<br />\nHave some fun over your lunch hour to enjoy&nbsp\;good company\, great pizza\, and a whole lot of Cyclone spirit!&nbsp\; Feel free to invite your friends.&nbsp\; We just ask you to register so that The Ducktail Staff can accommodate us since they are opening special for this Game Watch.&nbsp\;&nbsp\;</p>\n
LOCATION:The Ducktail Lounge 1809 NW 86th St. Clive\, IA 50325
UID:e.1185.17862
SEQUENCE:3
DTSTAMP:20260421T132553Z
URL:http://business.uniquelyurbandale.com/events/details/duck-duck-cyclones-game-watch-party-17862
END:VEVENT

END:VCALENDAR
