BEGIN:VCALENDAR
VERSION:2.0
PRODID:-//ChamberMaster//Event Calendar 2.0//EN
METHOD:PUBLISH
X-PUBLISHED-TTL:P3D
REFRESH-INTERVAL:P3D
CALSCALE:GREGORIAN
BEGIN:VEVENT
DTSTART:20230715T230000Z
DTEND:20230716T030000Z
X-MICROSOFT-CDO-ALLDAYEVENT:FALSE
SUMMARY:DSM LOCAL FEST
DESCRIPTION:DSM Local Fest is an annual event that celebrates the diverse culture and talent of the Des Moines community. The festival features a variety of activities including live music\, vendor booth and much more. It provides a platform for local artists and musicians to showcase their talents\, and for the community to come together and enjoy the vibrant culture of DSM.
X-ALT-DESC;FMTTYPE=text/html:<span style="font-family:futura lt bt\,sans-serif"><span style="font-size:16.0pt">DSM Local Fest is an annual event that celebrates the diverse culture and talent of the Des Moines community. The festival features a variety of activities including live music\, vendor booth and much more. It provides a platform for local artists and musicians to showcase their talents\, and for the community to come together and enjoy the vibrant culture of DSM.</span></span>
LOCATION:Greater Des Moines Botanical Garden 909 Robert D. Ray Dr\, Des Moines\, IA 50309
UID:e.1185.13041
SEQUENCE:3
DTSTAMP:20260422T060612Z
URL:http://business.uniquelyurbandale.com/events/details/dsm-local-fest-13041
END:VEVENT

END:VCALENDAR
