BEGIN:VCALENDAR
VERSION:2.0
PRODID:-//ChamberMaster//Event Calendar 2.0//EN
METHOD:PUBLISH
X-PUBLISHED-TTL:P3D
REFRESH-INTERVAL:P3D
CALSCALE:GREGORIAN
BEGIN:VEVENT
DTSTART;VALUE=DATE:20241015
DTEND;VALUE=DATE:20241020
TRANSP:TRANSPARENT
X-MICROSOFT-CDO-ALLDAYEVENT:TRUE
SUMMARY:Dress for Success Des Moines Fall Pop-Up Sale
DESCRIPTION:Support the mission of Dress for Success Des Moines and find great deals on stylish essentials at the Fall Pop-Up Sale at Valley West Mall All money raised from the Pop-Up Sale supports the mission of Dress for Success Des Moines to empower women on their journey to economic independence. Private Shopping Events (Tickets Required): Platinum Styling Experience - Tuesday\, October 15\, 4 pm -7 pm VIP Shopping Experience - Wednesday\, October 16\, 5 pm -7 pm Public Shopping: Thursday\, Oct. 17\, 11 am - 7 pm Friday\, Oct. 18\, 11 am - 7 pm Saturday\, Oct. 19\, 11 am - 5 pm
X-ALT-DESC;FMTTYPE=text/html:Support the mission of Dress for Success Des Moines and find great deals on stylish essentials at the Fall Pop-Up Sale at Valley West Mall All money raised from the Pop-Up Sale supports the mission of Dress for Success Des Moines to empower women on their journey to economic independence. Private Shopping Events (Tickets Required): Platinum Styling Experience - Tuesday\, October 15\, 4 pm -7 pm VIP Shopping Experience - Wednesday\, October 16\, 5 pm -7 pm Public Shopping: Thursday\, Oct. 17\, 11 am - 7 pm Friday\, Oct. 18\, 11 am - 7 pm Saturday\, Oct. 19\, 11 am - 5 pm
LOCATION:Valley West Mall Suite 203
UID:e.1185.15756
SEQUENCE:3
DTSTAMP:20260421T061610Z
URL:http://business.uniquelyurbandale.com/events/details/dress-for-success-des-moines-fall-pop-up-sale-15756
END:VEVENT

END:VCALENDAR
