BEGIN:VCALENDAR
VERSION:2.0
PRODID:-//ChamberMaster//Event Calendar 2.0//EN
METHOD:PUBLISH
X-PUBLISHED-TTL:P3D
REFRESH-INTERVAL:P3D
CALSCALE:GREGORIAN
BEGIN:VEVENT
DTSTART:20240917T163000Z
DTEND:20240917T180000Z
X-MICROSOFT-CDO-ALLDAYEVENT:FALSE
SUMMARY:Dress for Success 2024 Success Luncheon
DESCRIPTION:Dress for Success Des Moines is proud to announce its annual Success Luncheon with speaker Dr. Rachelle Keck\, President of Grand View University. The 2024 luncheon theme "Stepping into Success\," celebrates the work of the Career Center which aims to address obstacles women face while securing employment. The Success Luncheon will feature Dr. Rachelle Keck and offer an opportunity to hear the inspiring journeys of Dress for Success Des Moines clients who are successfully achieving their goals. Sponsorship opportunities are available at several support levels\, allowing businesses and individuals to further empower women in our community. Details This year's event will be held on September 17\, 2024\, from 11:30 am to 1:00 pm at the Meadows Ballroom\, located at Prairie Meadows\, 1 Prairie Meadows Dr\, Altoona\, IA 50009.
X-ALT-DESC;FMTTYPE=text/html:Dress for Success Des Moines is proud to announce its annual Success Luncheon with speaker Dr. Rachelle Keck\, President of Grand View University. The 2024 luncheon theme &ldquo\;Stepping into Success\,&rdquo\; celebrates the work of the Career Center which aims to address obstacles women face while securing employment. The Success Luncheon will feature Dr. Rachelle Keck and offer an opportunity to hear the inspiring journeys of Dress for Success Des Moines clients who are successfully achieving their goals. Sponsorship opportunities are available at several support levels\, allowing businesses and individuals to further empower women in our community. Details This year&rsquo\;s event will be held on September 17\, 2024\, from 11:30 am to 1:00 pm at the Meadows Ballroom\, located at Prairie Meadows\, 1 Prairie Meadows Dr\, Altoona\, IA 50009.
LOCATION:Prairie Meadows\, 1 Prairie Meadows Dr\, Altoona\, IA 50009.
UID:e.1185.15633
SEQUENCE:3
DTSTAMP:20260421T090317Z
URL:http://business.uniquelyurbandale.com/events/details/dress-for-success-2024-success-luncheon-15633
END:VEVENT

END:VCALENDAR
