BEGIN:VCALENDAR
VERSION:2.0
PRODID:-//ChamberMaster//Event Calendar 2.0//EN
METHOD:PUBLISH
X-PUBLISHED-TTL:P3D
REFRESH-INTERVAL:P3D
CALSCALE:GREGORIAN
BEGIN:VEVENT
DTSTART:20240614T130000Z
DTEND:20240614T140000Z
X-MICROSOFT-CDO-ALLDAYEVENT:FALSE
SUMMARY:Downtown Urbandale Business Owners Social
DESCRIPTION:As you know\, the renewed effort to create lasting change in the downtown area is underway.\n\n\n\nA key component will be coordination among downtown businesses to engage and grow together. You are invited to join a networking event to discuss how Downtown Urbandale business owners can best collaborate on promoting our historic community.\n\n\n\nA morning networking event for this new group is scheduled for Friday\, June 14\, 2024\, at 8am at Kading Properties' office at 7008 Madison Avenue. We will provide coffee\, juice\, and rolls from a local favorite from our downtown.\n\n \n\nThis opportunity is being brought to you by several stakeholders who have experienced positive effects of regularly meeting together through the City's downtown meeting series. They are looking to engage more Downtown Urbandale business owners in discussions regarding collaboration opportunities.\n\n\n\nIf you are interested in learning more about participating or supporting the new group\, please reach out to Karie Kading-Ramsey with Kading Properties at karie@kadingproperties.com or via mobile at 515-229-2740. We look forward to seeing you soon!
X-ALT-DESC;FMTTYPE=text/html:As you know\, the renewed effort to create lasting change in the downtown area is underway.<br />\n<br />\nA key component will be coordination among downtown businesses to engage and grow together.&nbsp\;You are invited to join a networking event to discuss how Downtown Urbandale business owners can best collaborate on promoting our historic community.<br />\n<br />\nA morning networking event for this new group is scheduled for <strong>Friday\, June 14\, 2024\, at 8am at Kading Properties&rsquo\; office at 7008 Madison Avenue.</strong> We will provide coffee\, juice\, and rolls from a local favorite from our downtown.<br />\n&nbsp\;<br />\nThis opportunity is being brought to you by several stakeholders who have experienced positive effects of regularly meeting together through the City&rsquo\;s downtown meeting series. They are looking to engage more Downtown Urbandale business owners in discussions regarding collaboration opportunities.<br />\n<br />\nIf you are interested in learning more about participating or supporting the new group\, please reach out to Karie Kading-Ramsey with Kading Properties at <a href="mailto:karie@kadingproperties.com"><span style="text-decoration:none\;text-underline:none\;"><span style="color:windowtext\;">karie@kadingproperties.com</span></span></a> or via mobile at 515-229-2740. We look forward to seeing you soon!
LOCATION:Kading Properties 7008 Madison Ave.\, Urbandale
UID:e.1185.15559
SEQUENCE:3
DTSTAMP:20260421T113709Z
URL:http://business.uniquelyurbandale.com/events/details/downtown-urbandale-business-owners-social-15559
END:VEVENT

END:VCALENDAR
