BEGIN:VCALENDAR
VERSION:2.0
PRODID:-//ChamberMaster//Event Calendar 2.0//EN
METHOD:PUBLISH
X-PUBLISHED-TTL:P3D
REFRESH-INTERVAL:P3D
CALSCALE:GREGORIAN
BEGIN:VEVENT
DTSTART:20240820T223000Z
DTEND:20240820T233000Z
X-MICROSOFT-CDO-ALLDAYEVENT:FALSE
SUMMARY:Document Party | Urbandale Chamber's trip to Greece
DESCRIPTION:The Urbandale Chamber of Commerce trip to Ancient Greece is quickly approaching!  You are invited on August 20\, 2024 from 5:30 - 6:30 p.m. to attend a "Document Party".\n\n\n\nThis meeting is not required to attend.  This is simply an opportunity to ask any final questions you may have and meet others who will be traveling with you.  \n\n\n\nYou can attend this meeting virtually or in person.  Please let us know if you are able to attend.
X-ALT-DESC;FMTTYPE=text/html:The Urbandale Chamber of Commerce trip to Ancient Greece is quickly approaching!&nbsp\; You are invited on August 20\, 2024 from 5:30 - 6:30 p.m. to attend a &quot\;Document Party&quot\;.<br />\n<br />\nThis meeting is not required to attend.&nbsp\; This is simply an opportunity to ask any final questions you may have and meet others who will be traveling with you.&nbsp\;&nbsp\;<br />\n<br />\nYou can attend this meeting virtually or in person.&nbsp\; Please let us know if you are able to attend.
LOCATION:Urbandale Chamber of Commerce 2830 100th St.\, Ste. 110 Urbandale OR Zoom
UID:e.1185.15627
SEQUENCE:3
DTSTAMP:20260421T085954Z
URL:http://business.uniquelyurbandale.com/events/details/document-party-urbandale-chamber-s-trip-to-greece-15627
END:VEVENT

END:VCALENDAR
