BEGIN:VCALENDAR
VERSION:2.0
PRODID:-//ChamberMaster//Event Calendar 2.0//EN
METHOD:PUBLISH
X-PUBLISHED-TTL:P3D
REFRESH-INTERVAL:P3D
CALSCALE:GREGORIAN
BEGIN:VEVENT
DTSTART:20250804T223000Z
DTEND:20250804T233000Z
X-MICROSOFT-CDO-ALLDAYEVENT:FALSE
SUMMARY:Document Party for the Urbandale Chamber's trip to Ireland
DESCRIPTION:You're Invited to Our Ireland Trip Document Party!   \n\nSl inte to Adventure   Let's Get Ready for the Emerald Isle!\n\nBefore we set off on our grand adventure to Ireland on August 17\, let's gather for a bit of craic (that's Irish for fun)!\n\nJoin your fellow travelers for a Document Party\, where you'll:\n\n  Pick up your travel packet\n\n  Get your questions answered\n\n  Meet the fine folks you'll be traveling with\n\nWhether you're dreaming of castles\, cliffs\, cozy pubs\, or an Iowa State win this is the perfect way to kick things off.\n\nRSVP by August 1st so we'll have your packet ready and waiting.\n\nWe can't wait to share this unforgettable experience with you \n\n\n\nSl n go f ill (goodbye for now)
X-ALT-DESC;FMTTYPE=text/html:<p data-end="234" data-start="105"><strong data-end="165" data-start="105">&#9752\;&#65039\; You&#39\;re Invited to Our Ireland Trip Document Party! &#9752\;&#65039\;</strong><br data-end="168" data-start="165" />\n<strong data-end="232" data-start="168">Sl&aacute\;inte to Adventure &ndash\; Let&rsquo\;s Get Ready for the Emerald Isle!</strong></p>\n\n<p data-end="454" data-start="323">Before we set off on our grand adventure to <strong data-end="391" data-start="367">Ireland on August 17</strong>\, let&rsquo\;s gather for a bit of <strong data-end="428" data-start="419">craic</strong> (that&rsquo\;s Irish for fun)!</p>\n\n<p data-end="747" data-start="456">Join your fellow travelers for a <strong data-end="514" data-start="496">Document Party</strong>\, where you&rsquo\;ll:<br data-end="532" data-start="529" />\n&#127808\; <strong data-end="565" data-start="535">Pick up your travel packet</strong><br data-end="568" data-start="565" />\n&#127808\; <strong data-end="602" data-start="571">Get your questions answered</strong><br data-end="605" data-start="602" />\n&#127808\; <strong data-end="656" data-start="608">Meet the fine folks you&rsquo\;ll be traveling with</strong></p>\n\n<p data-end="852" data-start="749">Whether you&rsquo\;re dreaming of castles\, cliffs\, cozy pubs\, or an Iowa State win this is the perfect way to kick things off.</p>\n\n<p data-end="926" data-start="854"><strong data-end="879" data-start="854">RSVP by August 1st</strong> so we&rsquo\;ll have your packet ready and waiting.</p>\n\n<p data-end="1063" data-start="928">We can&rsquo\;t wait to share this unforgettable experience with you&mdash\;<br />\n<br data-end="993" data-start="990" />\n<strong data-end="1029" data-start="993">Sl&aacute\;n go f&oacute\;ill (goodbye for now)</strong><br data-end="1032" data-start="1029" />\n&nbsp\;</p>\n
LOCATION:Urbandale Chamber of Commerce Aisha R. Syed Board Room Realtor | Iowa Realty 2830 100th St.\, Ste. 110 Urbandale\, IA 50322 OR Teams (link will be sent follow registration)
UID:e.1185.17333
SEQUENCE:3
DTSTAMP:20260421T140034Z
URL:http://business.uniquelyurbandale.com/events/details/document-party-for-the-urbandale-chamber-s-trip-to-ireland-17333
END:VEVENT

END:VCALENDAR
