BEGIN:VCALENDAR
VERSION:2.0
PRODID:-//ChamberMaster//Event Calendar 2.0//EN
METHOD:PUBLISH
X-PUBLISHED-TTL:P3D
REFRESH-INTERVAL:P3D
CALSCALE:GREGORIAN
BEGIN:VEVENT
DTSTART:20240525T140000Z
DTEND:20240525T210000Z
X-MICROSOFT-CDO-ALLDAYEVENT:FALSE
SUMMARY:Decoration Day & Historic Baseball
DESCRIPTION:Explore the origins and meaning of Memorial Day! Saturday\, May 25   9 a.m.-4 p.m. All activities included with General Admission Memorial Day began in 1868 as a day called Decoration Day. More than 600\,000 soldiers had died during the American Civil War\, and their families did not want anyone to forget their sacrifice. On Decoration Day\, these families went to the graveyard with flowers and flags to decorate the graves of their soldiers who had died. Many small towns had parades. Veterans would carry flags and banners\, and children walked in these parades carrying flowers. Sometimes\, important men like the mayor or governor would give a speech. Bands would play music and people would sing songs about their country. Today\, we honor all fallen soldiers on Memorial Day\, not just those who died in the Civil War. Families still go to cemeteries to remember family members who are gone. You can see what Decoration Day might have looked like over 100 years ago. Historical Interpreters will act out a Decoration Day ceremony and procession at 1 p.m. The day will end with a Historic Baseball game played by 1876 rules.
X-ALT-DESC;FMTTYPE=text/html:Explore the origins and meaning of Memorial Day! Saturday\, May 25 &bull\; 9 a.m.-4 p.m. All activities included with General Admission Memorial Day began in 1868 as a day called Decoration Day. More than 600\,000 soldiers had died during the American Civil War\, and their families did not want anyone to forget their sacrifice. On Decoration Day\, these families went to the graveyard with flowers and flags to decorate the graves of their soldiers who had died. Many small towns had parades. Veterans would carry flags and banners\, and children walked in these parades carrying flowers. Sometimes\, important men like the mayor or governor would give a speech. Bands would play music and people would sing songs about their country. Today\, we honor all fallen soldiers on Memorial Day\, not just those who died in the Civil War. Families still go to cemeteries to remember family members who are gone. You can see what Decoration Day might have looked like over 100 years ago. Historical Interpreters will act out a Decoration Day ceremony and procession at 1 p.m. The day will end with a Historic Baseball game played by 1876 rules.
LOCATION:Living History Farms 11121 Hickman Rd. Urbandale\, IA
UID:e.1185.15013
SEQUENCE:3
DTSTAMP:20260421T125008Z
URL:http://business.uniquelyurbandale.com/events/details/decoration-day-historic-baseball-15013
END:VEVENT

END:VCALENDAR
