BEGIN:VCALENDAR
VERSION:2.0
PRODID:-//ChamberMaster//Event Calendar 2.0//EN
METHOD:PUBLISH
X-PUBLISHED-TTL:P3D
REFRESH-INTERVAL:P3D
CALSCALE:GREGORIAN
BEGIN:VEVENT
DTSTART:20240102T170000Z
DTEND:20240102T190000Z
X-MICROSOFT-CDO-ALLDAYEVENT:FALSE
SUMMARY:Dale Menning & The Stardusters
DESCRIPTION:FREE LIVE ENTERTAINMENT\n\nGenre: Variety
X-ALT-DESC;FMTTYPE=text/html:<p>FREE LIVE ENTERTAINMENT</p>\n\n<p>Genre: Variety</p>\n
LOCATION:Prairie Meadows Racetrack and Casino Finish Line Show Lounge (casino level 2)
UID:e.1185.13631
SEQUENCE:3
DTSTAMP:20260421T182056Z
URL:http://business.uniquelyurbandale.com/events/details/dale-menning-the-stardusters-13631
END:VEVENT

END:VCALENDAR
