BEGIN:VCALENDAR
VERSION:2.0
PRODID:-//ChamberMaster//Event Calendar 2.0//EN
METHOD:PUBLISH
X-PUBLISHED-TTL:P3D
REFRESH-INTERVAL:P3D
CALSCALE:GREGORIAN
BEGIN:VEVENT
DTSTART:20240206T170000Z
DTEND:20240206T190000Z
X-MICROSOFT-CDO-ALLDAYEVENT:FALSE
SUMMARY:Dale Menning & The Stardusters
DESCRIPTION:FREE LIVE ENTERTAINMENT\n\nGenre: Jazz/Variety
X-ALT-DESC;FMTTYPE=text/html:<p>FREE LIVE ENTERTAINMENT</p>\n\n<p>Genre: Jazz/Variety</p>\n
LOCATION:Prairie Meadows Racetrack and Casino Finish Line Show Lounge (casino level 2)
UID:e.1185.13643
SEQUENCE:3
DTSTAMP:20260421T165728Z
URL:http://business.uniquelyurbandale.com/events/details/dale-menning-the-stardusters-02-06-2024-13643
END:VEVENT

END:VCALENDAR
