BEGIN:VCALENDAR
VERSION:2.0
PRODID:-//ChamberMaster//Event Calendar 2.0//EN
METHOD:PUBLISH
X-PUBLISHED-TTL:P3D
REFRESH-INTERVAL:P3D
CALSCALE:GREGORIAN
BEGIN:VEVENT
DTSTART:20240305T170000Z
DTEND:20240305T190000Z
X-MICROSOFT-CDO-ALLDAYEVENT:FALSE
SUMMARY:Craig Swalwell Band
DESCRIPTION:FREE LIVE ENTERTAINMENT\n\nGenre: Rock/Blues
X-ALT-DESC;FMTTYPE=text/html:<p>FREE LIVE ENTERTAINMENT</p>\n\n<p>Genre: Rock/Blues</p>\n
LOCATION:Prairie Meadows Racetrack and Casino Finish Line Show Lounge (casino level 2)
UID:e.1185.13654
SEQUENCE:3
DTSTAMP:20260421T154446Z
URL:http://business.uniquelyurbandale.com/events/details/craig-swalwell-band-03-05-2024-13654
END:VEVENT

END:VCALENDAR
