BEGIN:VCALENDAR
VERSION:2.0
PRODID:-//ChamberMaster//Event Calendar 2.0//EN
METHOD:PUBLISH
X-PUBLISHED-TTL:P3D
REFRESH-INTERVAL:P3D
CALSCALE:GREGORIAN
BEGIN:VEVENT
DTSTART:20250114T170000Z
DTEND:20250114T210000Z
X-MICROSOFT-CDO-ALLDAYEVENT:FALSE
SUMMARY:Craig Swalwell Band
DESCRIPTION:This popular cover band performs classic songs from Eric Clapton to Johnny Cash to Come see the Craig Swalwell band's FREE show in the Finish Line Show Lounge. Must be 21 or older to attend.
X-ALT-DESC;FMTTYPE=text/html:<span style="font-family:calibri\,sans-serif"><span style="font-size:11.0pt">This popular cover band performs classic songs from Eric Clapton to Johnny Cash to Come see the Craig Swalwell band&rsquo\;s FREE show in the </span></span><span style="font-family:calibri\,sans-serif"><span style="font-size:11.0pt">Finish Line Show Lounge. </span></span><span style="font-family:calibri\,sans-serif"><span style="font-size:11.0pt">Must be 21 or older to attend.</span></span>
LOCATION:Prairie Meadows Casino & Racetrack 1 Prairie Meadows Dr\, Altoona\, IA 50009
UID:e.1185.16049
SEQUENCE:3
DTSTAMP:20260421T013521Z
URL:http://business.uniquelyurbandale.com/events/details/craig-swalwell-band-01-14-2025-16049
END:VEVENT

END:VCALENDAR
