BEGIN:VCALENDAR
VERSION:2.0
PRODID:-//ChamberMaster//Event Calendar 2.0//EN
METHOD:PUBLISH
X-PUBLISHED-TTL:P3D
REFRESH-INTERVAL:P3D
CALSCALE:GREGORIAN
BEGIN:VEVENT
DTSTART:20240426T133000Z
DTEND:20240426T210000Z
X-MICROSOFT-CDO-ALLDAYEVENT:FALSE
SUMMARY:Compensation Essentials I Workshop
DESCRIPTION:Come prepared to roll up your sleeves and participate in a highly interactive and dynamic learning experience. Compensation Essentials I is focused on base pay. You will apply concepts\, practices and techniques that will help you create effective\, equitable and organizationally aligned compensation programs.\n\n \n\nTopics include compensation philosophy\, base v. variable pay\, job benchmarking\, salary market analyses\, survey & data selection\, acceptable pay parameters and market-priced salary ranges. The presentations\, activities and discussion will guide you in salary determinations\, assessing legal and ethical compliance issues\, applying best & acceptable practices\, FLSA classifications and MORE  \n\n \n\nWho should attend? Beginner to intermediate Compensation Professionals\; Human Resources Professionals who would like to learn more about compensation fundamentals\; and Managers responsible for compensation administration and salary determinations.\n As a participant\, you will receive a participant guide\, a full set of the workshop slides\, along with additional handouts and tools for you to use on the job.\n\n\n\n7 SHRM-CP and SHRM-SCP Recertification Credits will be awarded for this workshop.
X-ALT-DESC;FMTTYPE=text/html:<p><span style="font-size:12px"><span style="font-family:arial\,helvetica\,sans-serif">Come prepared to roll up your sleeves and participate in a highly interactive and dynamic learning experience. Compensation Essentials I is focused on base pay. You will apply concepts\, practices and techniques that will help you create effective\, equitable and organizationally aligned compensation programs.<br />\n&nbsp\;<br />\n<strong><em><span style="color:#4F7921">Topics include</span></em></strong> compensation philosophy\, base v. variable pay\, job benchmarking\, salary market analyses\, survey &amp\; data selection\, acceptable pay parameters and market-priced salary ranges. The presentations\, activities and discussion will guide you in salary determinations\, assessing legal and ethical compliance issues\, applying best &amp\; acceptable practices\, FLSA classifications and <strong>MORE </strong>&hellip\;<br />\n&nbsp\;<br />\n<strong><em><span style="color:#4F7921">Who should attend?</span></em></strong> Beginner to intermediate <strong>Compensation Professionals</strong>\; <strong>Human Resources</strong> Professionals who would like to learn more about compensation fundamentals\; and <strong>Managers</strong> responsible for compensation administration and salary determinations.</span></span></p>\n<span style="font-size:12px"><span style="font-family:arial\,helvetica\,sans-serif">&nbsp\;</span></span><strong><em><span style="color:#4F7921">As a participant\, </span></em></strong>you will receive a participant guide\, a full set of the workshop slides\, along with additional handouts and tools for you to use on the job.<br />\n<br />\n<strong><u>7</u>&nbsp\;SHRM-CP and SHRM-SCP Recertification Credits will be awarded for this workshop.</strong>
LOCATION:Ankeny Kirkendall Library\, 1250 SW District Drive\, Ankeny\, IA
UID:e.1185.15100
SEQUENCE:3
DTSTAMP:20260421T141130Z
URL:http://business.uniquelyurbandale.com/events/details/compensation-essentials-i-workshop-15100
END:VEVENT

END:VCALENDAR
