BEGIN:VCALENDAR
VERSION:2.0
PRODID:-//ChamberMaster//Event Calendar 2.0//EN
METHOD:PUBLISH
X-PUBLISHED-TTL:P3D
REFRESH-INTERVAL:P3D
CALSCALE:GREGORIAN
BEGIN:VEVENT
DTSTART:20250104T020000Z
DTEND:20250104T050000Z
X-MICROSOFT-CDO-ALLDAYEVENT:FALSE
SUMMARY:Cody Hicks
DESCRIPTION:Cody Hicks and his band are bringing their country sound to the Finish Line Show Lounge. Come see their FREE show. Must be 21 or older to attend.
X-ALT-DESC;FMTTYPE=text/html:Cody Hicks and his band are bringing their country sound to the Finish Line Show Lounge. Come see their FREE show. Must be 21 or older to attend.
LOCATION:Prairie Meadows Casino & Racetrack 1 Prairie Meadows Dr\, Altoona\, IA 50009
UID:e.1185.16052
SEQUENCE:3
DTSTAMP:20260421T030921Z
URL:http://business.uniquelyurbandale.com/events/details/cody-hicks-01-03-2025-16052
END:VEVENT

END:VCALENDAR
