BEGIN:VCALENDAR
VERSION:2.0
PRODID:-//ChamberMaster//Event Calendar 2.0//EN
METHOD:PUBLISH
X-PUBLISHED-TTL:P3D
REFRESH-INTERVAL:P3D
CALSCALE:GREGORIAN
BEGIN:VEVENT
DTSTART:20250128T170000Z
DTEND:20250128T210000Z
X-MICROSOFT-CDO-ALLDAYEVENT:FALSE
SUMMARY:Clarksville Station
DESCRIPTION:Clarksville Station is bringing classic country music to the Finish Line Show Lounge. Come out and listen to this free show   you will not leave disappointed! Must be 21 or older to attend.
X-ALT-DESC;FMTTYPE=text/html:Clarksville Station is bringing classic country music to the Finish Line Show Lounge. Come out and listen to this free show &ndash\; you will not leave disappointed! Must be 21 or older to attend.
LOCATION:Prairie Meadows Casino & Racetrack 1 Prairie Meadows Dr\, Altoona\, IA 50009
UID:e.1185.16051
SEQUENCE:3
DTSTAMP:20260421T045551Z
URL:http://business.uniquelyurbandale.com/events/details/clarksville-station-01-28-2025-16051
END:VEVENT

END:VCALENDAR
